BEGIN:VCALENDAR
VERSION:2.0
PRODID:-//wp-events-plugin.com//7.2.3.1//EN
TZID:Europe/Berlin
X-WR-TIMEZONE:Europe/Berlin
BEGIN:VEVENT
UID:0-2398@sharepointsocial.de
DTSTART;TZID=Europe/Berlin:20240801T190000
DTEND;TZID=Europe/Berlin:20240801T210000
DTSTAMP:20240716T054727Z
URL:https://sharepointsocial.de/events/open-ai-copilot-studio-und-die-azur
 e-safety-api/
SUMMARY:Open AI\, Copilot Studio und die Azure Safety API
DESCRIPTION:1. Open AI und Copilot Studio im Überblick von Data Governance
  und Datenverarbeitung\n2. Azure Safety API\na) Überblick\nb) Funktion\nc
 ) Nutzung\nSpeaker: Raphael Köllner
CATEGORIES:Meetup
LOCATION:https://www.meetup.com/global-ai-cologne/events/301352309/
END:VEVENT
BEGIN:VTIMEZONE
TZID:Europe/Berlin
X-LIC-LOCATION:Europe/Berlin
BEGIN:DAYLIGHT
DTSTART:20240331T030000
TZOFFSETFROM:+0100
TZOFFSETTO:+0200
TZNAME:CEST
END:DAYLIGHT
END:VTIMEZONE
END:VCALENDAR