BEGIN:VCALENDAR
VERSION:2.0
PRODID:-//wp-events-plugin.com//7.2.3.1//EN
TZID:Europe/Berlin
X-WR-TIMEZONE:Europe/Berlin
BEGIN:VEVENT
UID:6-63@sharepointsocial.de
DTSTART;TZID=Europe/Berlin:20160108T090000
DTEND;TZID=Europe/Berlin:20160109T090000
DTSTAMP:20151214T123443Z
URL:https://sharepointsocial.de/events/office365konferenz/
SUMMARY:Office365Konferenz
DESCRIPTION:Nach dem großen Erfolg der Office 365 Konferenz im Januar 2015
  organisieren Mitglieder der MVP Community die zweite Office 365 Konferenz
  in Deutschland im kommenden Jahr! Das Event wird von 8. bis 9. Januar 201
 6 wieder in Köln stattfinden.\nCommunity Event\nDie Office 365 Konferenz 
 wird wieder ein kostenfreies Community Event - von der Community für die 
 Community - und wieder viele interessante Sessions mit bekannten und inter
 nationalen Experten anbieten.\nAgenda\nDie Agenda auf der Konferenz-Websit
 e.\nDatum und Ort\n8. bis 9. Januar 2016\, von 09 bis 18 Uhr\nMicrosoft De
 utschland GmbH\, Holzmarkt 2a\, 50676 Köln
CATEGORIES:Konferenz
LOCATION:Microsoft Niederlassung Köln\, Holzmarkt 2a\, Köln\, 50676\, Deu
 tschland
GEO:50.92876;6.963200000000029
X-APPLE-STRUCTURED-LOCATION;VALUE=URI;X-ADDRESS=Holzmarkt 2a\, Köln\, 5067
 6\, Deutschland;X-APPLE-RADIUS=100;X-TITLE=Microsoft Niederlassung Köln:g
 eo:50.92876,6.963200000000029
END:VEVENT
BEGIN:VTIMEZONE
TZID:Europe/Berlin
X-LIC-LOCATION:Europe/Berlin
BEGIN:STANDARD
DTSTART:20151025T020000
TZOFFSETFROM:+0200
TZOFFSETTO:+0100
TZNAME:CET
END:STANDARD
END:VTIMEZONE
END:VCALENDAR