BEGIN:VCALENDAR
VERSION:2.0
PRODID:-//wp-events-plugin.com//7.2.3.1//EN
TZID:Europe/Berlin
X-WR-TIMEZONE:Europe/Berlin
BEGIN:VEVENT
UID:6-61@sharepointsocial.de
DTSTART;TZID=Europe/Berlin:20151126T160000
DTEND;TZID=Europe/Berlin:20151126T200000
DTSTAMP:20151113T171156Z
URL:https://sharepointsocial.de/events/office365-pill-berlin-sharepoint-un
 d-exchange-hybrid/
SUMMARY:Office365 Pill Berlin "SharePoint und Exchange Hybrid"
DESCRIPTION:Die vierte "Pillenvergabe" in der Office365 Pill-Reihe findet 
 am Donnerstag\, den 26. November 2015\, von 16.00 - 20.00 Uhr in Berlin st
 att.\nIn knackigen Sessions informieren Denis Holtkamp\, Fabian Moritz\, P
 atrick Lamber und Siegfried Jagott über"SharePoint und Exchange Hybrid". 
 Der Schwerpunkt liegt dabei auf der Planung und Umsetzung von Hybrid-Szena
 rien mit SharePoint Server 2016\, Office 365 und Exchange Server 2016.\n\n
 Anmeldung und weitere Infos zum Event auf der Eventwebsite\n\n&nbsp\;
CATEGORIES:Partnerevent
LOCATION:ITaCS GmbH\, Karl-Liebknecht-Strasse 5\, Berlin\, 10178\, Deutschl
 and
GEO:52.526442;13.386845900000026
X-APPLE-STRUCTURED-LOCATION;VALUE=URI;X-ADDRESS=Karl-Liebknecht-Strasse 5\,
  Berlin\, 10178\, Deutschland;X-APPLE-RADIUS=100;X-TITLE=ITaCS GmbH:geo:52
 .526442,13.386845900000026
END:VEVENT
BEGIN:VTIMEZONE
TZID:Europe/Berlin
X-LIC-LOCATION:Europe/Berlin
BEGIN:STANDARD
DTSTART:20151025T020000
TZOFFSETFROM:+0200
TZOFFSETTO:+0100
TZNAME:CET
END:STANDARD
END:VTIMEZONE
END:VCALENDAR