BEGIN:VCALENDAR
VERSION:2.0
PRODID:-//wp-events-plugin.com//7.2.3.1//EN
TZID:Europe/Berlin
X-WR-TIMEZONE:Europe/Berlin
BEGIN:VEVENT
UID:6-560@sharepointsocial.de
DTSTART;TZID=Europe/Berlin:20171019T183000
DTEND;TZID=Europe/Berlin:20171019T213000
DTSTAMP:20170920T112801Z
URL:https://sharepointsocial.de/events/office365-graz-oktober-meetup/
SUMMARY:Office365 Graz Oktober Meetup
DESCRIPTION:Zurück aus der Sommerpause möchten wir die Gelegenheit nutzen
  um über folgende Dinge zu sprechen.\n\nEinerseits über alle News und Ä
 nderungen die im Zuge der Ignite Konferenz für Office365 bekannt gegeben 
 wurden. Sprich was ist neu\, was ist anders und welche Trends sind erkennb
 ar.\n\nAls zweiten Punkt freut es mich\, dass Stephan Bisser sich bereit e
 rklärt seinen Bot "Homie" uns vor zustellen. Details: https://blogs.msdn
 .microsoft.com/codefest/2017/09/07/homie-ein-bot-der-die-menschliche-sprac
 he-versteht/\n\n&nbsp\;\n\nAnmeldung zum Meetup über Meetup
CATEGORIES:UserGroup
LOCATION:Solvion Raum Wiese\, Reininghausstrasse 13 \, Graz\, Österreich
GEO:47.064864;15.407724799999983
X-APPLE-STRUCTURED-LOCATION;VALUE=URI;X-ADDRESS=Reininghausstrasse 13 \, Gr
 az\, Österreich;X-APPLE-RADIUS=100;X-TITLE=Solvion Raum Wiese:geo:47.0648
 64,15.407724799999983
END:VEVENT
BEGIN:VTIMEZONE
TZID:Europe/Berlin
X-LIC-LOCATION:Europe/Berlin
BEGIN:DAYLIGHT
DTSTART:20170326T030000
TZOFFSETFROM:+0100
TZOFFSETTO:+0200
TZNAME:CEST
END:DAYLIGHT
END:VTIMEZONE
END:VCALENDAR