BEGIN:VCALENDAR
VERSION:2.0
PRODID:-//wp-events-plugin.com//7.2.3.1//EN
TZID:Europe/Berlin
X-WR-TIMEZONE:Europe/Berlin
BEGIN:VEVENT
UID:6-557@sharepointsocial.de
DTSTART;TZID=Europe/Berlin:20171010T110000
DTEND;TZID=Europe/Berlin:20171010T120000
DTSTAMP:20170914T082941Z
URL:https://sharepointsocial.de/events/office-365-zum-anfassen-die-besten-
 praktiken-und-loesungen/
SUMMARY:Office 365 zum Anfassen - Die besten Praktiken und Lösungen
DESCRIPTION:Ein Henrichsen Webinar\nDer zukünftige Arbeitsplatz ist digita
 l und ortsunabhängig – denn Mitarbeiter wollen bereits heute von zuhaus
 e oder unterwegs uneingeschränkt arbeiten können. Um dabei weder bei der
  eigenen Infrastruktur noch dem notwendigen Know-How an Grenzen zu stoßen
  bietet sich als Basis hierfür das Rundumpaket Office 365 an.\nMit Office
  365 haben Sie die Möglichkeit SharePoint als agile Collaborations- oder 
 Projektplattform zu verwenden. Außerdem können Sie mit dem neu hinzugeko
 mmenen Microsoft Teams temporäre Arbeitsgruppen oder Projektteams organis
 ieren\, durch Flow den Usern die selbständige Workflowerstellung überlas
 sen und mit PowerApps und PowerBI umfangreiche Auswertungen von Geschäfts
 daten vorzunehmen. Das Alles in einem Paket.\nUnser Webinar zeigt Ihnen ko
 nkrete Vorteile und Nutzen für Ihre Organisation mit Office 365.\nSie erh
 alten dabei Antworten auf u.a. folgende Fragen:\n- Wo liegen die Unterschi
 ede der onPremise Anwendungen?\n- Wie leicht es ist mit einer Cloud basier
 ten Umgebung zu starten?\n- Welche Wege es gibt\, die vorhandene Infrastru
 ktur und Applikationen richtig und sinnvoll einzubinden?\n- Welche Überle
 gungen müssen im Vorfeld gemacht werden?\n- Brauche ich eine längerfrist
 ige Cloud Strategie\, Governance- und Compliance Richtlinien im eigenen Un
 ternehmen?\n- Wie nutzte ich das Beste aus den angebotenen Services?\nWir 
 freuen uns auf Ihre Teilnahme! - Hier geht es zur Anmeldung\n
CATEGORIES:Webcast
END:VEVENT
BEGIN:VTIMEZONE
TZID:Europe/Berlin
X-LIC-LOCATION:Europe/Berlin
BEGIN:DAYLIGHT
DTSTART:20170326T030000
TZOFFSETFROM:+0100
TZOFFSETTO:+0200
TZNAME:CEST
END:DAYLIGHT
END:VTIMEZONE
END:VCALENDAR