BEGIN:VCALENDAR
VERSION:2.0
PRODID:-//wp-events-plugin.com//7.2.3.1//EN
TZID:Europe/Berlin
X-WR-TIMEZONE:Europe/Berlin
BEGIN:VEVENT
UID:6-563@sharepointsocial.de
DTSTART;TZID=Europe/Berlin:20171106T180000
DTEND;TZID=Europe/Berlin:20171106T210000
DTSTAMP:20170922T110825Z
URL:https://sharepointsocial.de/events/office-365-user-group-meetup-1-hamb
 urg/
SUMMARY:Office 365 User Group Meetup #1 Hamburg
DESCRIPTION:Am 06. November findet zwischen 18:00 und 21:45 Uhr unser erste
 s Meetup statt. Ort: Microsoft Office in Hamburg in der Gasstrasse.\n\nDie
  Agenda steht gegenwärtig noch unter Vorbehalt. Vorgesehen hat Martin neb
 en einem kurzen Intro zwei Talks von ca. 60 Minuten Dauer und eine Pause z
 um Netzwerken der Teilnehmer. Anders als bei den etablierten Meetups müss
 en wir uns zum Start aber zumindest auch kurz über Eure Erwartungen und W
 ünsche\, sowie den Modus der Veranstaltung unterhalten.\n\nHier kannst Du
  als Teilnehmer durch Deine Wortbeiträge mitgestalten.\n\nBehandelt werde
 n aktuelle Themen. Bitte äußert daher Eure Themenwünsche und überlegt 
 doch mal\, ob Ihr selbst zu einem Thema oder einer Projekterfahrung einen 
 Beitrag leisten möchtet.\n\nDaneben möchte ich zu "Bring your own Proble
 m" motivieren\, denn Eure Aufgabenstellung könnte ggf. jeden Teilnehmer u
 nserer Gruppe betreffen.\n\n&nbsp\;\n\nAnmeldung über Meetup
CATEGORIES:UserGroup
LOCATION:Microsoft Deutschland GmbH\, Raum Alster\, Gasstraße 6A\, Hamburg
 \, 22761\, Deutschland
GEO:53.56147;9.915070000000014
X-APPLE-STRUCTURED-LOCATION;VALUE=URI;X-ADDRESS=Gasstraße 6A\, Hamburg\, 2
 2761\, Deutschland;X-APPLE-RADIUS=100;X-TITLE=Microsoft Deutschland GmbH\,
  Raum Alster:geo:53.56147,9.915070000000014
END:VEVENT
BEGIN:VTIMEZONE
TZID:Europe/Berlin
X-LIC-LOCATION:Europe/Berlin
BEGIN:STANDARD
DTSTART:20171029T020000
TZOFFSETFROM:+0200
TZOFFSETTO:+0100
TZNAME:CET
END:STANDARD
END:VTIMEZONE
END:VCALENDAR