BEGIN:VCALENDAR
VERSION:2.0
PRODID:-//wp-events-plugin.com//7.2.3.1//EN
TZID:Europe/Berlin
X-WR-TIMEZONE:Europe/Berlin
BEGIN:VEVENT
UID:0-1573@sharepointsocial.de
DTSTART;TZID=Europe/Berlin:20200928T180000
DTEND;TZID=Europe/Berlin:20200928T220000
DTSTAMP:20200821T121503Z
URL:https://sharepointsocial.de/events/office-365-user-group-hamburg-meetu
 p-23/
SUMMARY:Office 365 User Group Hamburg Meetup #23
DESCRIPTION:On August 28th\, 2020 our next Meetup takes place - again\, it'
 s planned as a Microsoft Teams meeting.\nThis time we have Mustafa Toroman
  with us\, so parts of this meetup will be delivered in english.\n\nAgenda
  (under construction):\n18:00-18:30 Landing Zone / Opening / Basics\n18:30
 -19:30 Uhr Mustafa Toroman: Azure Active Directory best practices from the
  field (engl.)\n19:30-19:45 Uhr BYO Pizza &amp\; drinks\, and Networking\n
 19:45-20:45 Uhr Sia Ghassemi: Unleash the full power of Excel Spreadsheets
  with Azure Serverless\n20:45-21:00 Uhr Closing notes &amp\; Networking (o
 pen end)\nBe aware that we may consider to record the sessions! Other part
 s of the meetup as well as discussion will not be recorded.\n\nMustafa Tor
 oman: Azure Active Directory best practices from the field\nActive Directo
 ry (Azure AD) is Microsoft’s multi-tenant\, cloud based directory and id
 entity management service. It's also new boundary layer for security and e
 veryone is using it. But it brings many questions like how to set up perfe
 ct hybrid environment\, what should we sync\, should we use MFA\, should w
 e allow access to external users...\nIn this session\, we will discuss wha
 t are do's and don't's extracted from experience from the field.\nMustafa 
 Toroman is a program architect and lead system engineer with Authority Par
 tners. With years of experience of designing and monitoring infrastructure
  solutions\, lately\, he focuses on designing new solutions in the cloud a
 nd migrating existing solutions to the cloud.\nMustafa has over 30 Microso
 ft certifications and has been an MCT since 2012. He often speaks at inter
 national conferences (such as MS Ignite\, European Collaboration Summit\, 
 Techdays\, etc.) about cloud technologies.\nMustafa also authored books Ha
 nds-On Cloud Administration in Azure and Azure Networking Cookbook\, and c
 o-authored Learn Node.js with Azure.\n\nSia Ghassemi: Unleash the full pow
 er of Excel Spreadsheets with Azure Serverless\nThanks to the new Custom F
 unctions for Excel\, you can now connect your Spreadsheet to Azure. Where 
 as fetching data from Azure Datastores in spreadsheets is a everyday featu
 re\, Custom Functions gives developers the power to move business logic ou
 t of a spreadsheet and into Azure to enable the best experience for Users.
  Use Azure Functions to host your business logic and Excel-formulas don’
 t have to change\, when the algorithm changes. Use Azure SignalR Service t
 o update a cell frequently\, without any interaction.\nSia Ghassemi is not
  just a passionate software architect and Microsoft MVP for the category A
 zure\, he is also the founder of sia-consulting limited\, a company specia
 lized in GDPR\, dev-security and cloud-security. He is a frequent speaker 
 and workshop-lead at different conferences throughout germany and canada.\
 n\nIn this session you see how you can use Excel and Azure Serverless to b
 ring the best Experience to Users.\n\nWie immer:\nDie Agenda steht unter V
 orbehalt\, achtet bitte auf die Aktualisierung in Martins Tweets und/oder 
 Facebook Posts unter\nhttps://www.facebook.com/groups/ugoffice365/\n\nDate
 nschutz / Privacy\nWir zeichnen das Meeting in MicrosoftTeams evtl. auf. T
 eilnahme bedeutet daher\, dass Ihr der Aufnahme von Bild und Ton/Video zus
 timmt.\nWir werden während des Meetups Bilder von den Vortragenden und vo
 m Publikumsraum aufnehmen\, die dann für eigene Marketingzwecke auf Twitt
 er\, Facebook\, Meetup\, Martins Website (http://themigrationwizard.com) i
 n Posts zu unserem Meetup (themigrationwizard.com)\, youtube &amp\; weiter
 en Plattformen eingefügt werden.\nMit Betreten des Meetups gehen wir davo
 n aus\, dass Ihr der Aufnahme Eures Bilds und dem Posting in den sozialen 
 Medien (und dadurch ggf. erfolgender Datenverarbeitung bei Twitter\, Faceb
 ook\, etc.) sowie deren Reposts zugestimmt habt.\n\nEine kommerzielle Nutz
 ung durch die Organisatoren erfolgt nicht.
CATEGORIES:Meetup
LOCATION:https://www.meetup.com/de-DE/Office-365-User-Group-Hamburg/events/
 272170941/
END:VEVENT
BEGIN:VTIMEZONE
TZID:Europe/Berlin
X-LIC-LOCATION:Europe/Berlin
BEGIN:DAYLIGHT
DTSTART:20200329T030000
TZOFFSETFROM:+0100
TZOFFSETTO:+0200
TZNAME:CEST
END:DAYLIGHT
END:VTIMEZONE
END:VCALENDAR