BEGIN:VCALENDAR
VERSION:2.0
PRODID:-//wp-events-plugin.com//7.2.3.1//EN
TZID:Europe/Berlin
X-WR-TIMEZONE:Europe/Berlin
BEGIN:VEVENT
UID:6-57@sharepointsocial.de
DTSTART;TZID=Europe/Berlin:20151029T143000
DTEND;TZID=Europe/Berlin:20151029T180000
DTSTAMP:20151007T114610Z
URL:https://sharepointsocial.de/events/office-365-pill-3/
SUMMARY:Office 365 Pill 3
DESCRIPTION:Was sind die Office 365 Pills?\nWenn wir zur Pillenpackung grei
 fen\, dann erhoffen wir uns eine Wirkung. Schnell\, möglichst ohne Nebenw
 irkung um beruhigt wieder loszulegen. Nein\, wir haben nicht das Fach gewe
 chselt - aber dieser Vergleich erklärt am besten die schlichte Idee für 
 die innovative Umsetzung der Office 365 Pills.\n\nOffice 365 ist mehr als 
 ein einfacher Dienst. Um die vielen Möglichkeiten zu nutzten gibt es bere
 its viele Community Beiträge. Oft fehlen aber nur kleine Tips und Tricks 
 um Probleme zu lösen.\n\nAus unserer Begeisterung entstand der Ansporn ge
 nau das zu bieten - kleine Pills für Office 365 Anwender. Kurz und kompak
 t bieten wir konkrete Lösungswege in kompakten Tagesveranstaltungen.\n\nW
 ir -  das sind die MVPs Patrick Lamber\, Martina Grom und Toni Pohl \nOf
 fice 365 Pill 3 in Wien\nDie dritte "Pillenvergabe" findet am Donnerstag\,
  den 29. Oktober 2015\, von 14.30 - 18.00 Uhr in Wien statt.\nDie Eröffnu
 ng hält Marina Egger\, Product Marketing Manager Office bei Microsoft Ös
 terreich.\n\nIn kurzen Sessions informieren Martina Grom\, Toni Pohl\, Chr
 istoph Wilfing und Christian Lapacka über das Thema "Hybrid in die Cloud"
 . Der Schwerpunkt liegt dabei auf der Planung und Umsetzung von Hybrid-Sze
 narien mit Active Directory Connect\, Exchange Server 2016 und SharePoint 
 Server 2016.\nIm Anschluss\, ab 18 Uhr\, lädt ETC zum Grillen auf der Ter
 asse ein!\n\nWir danken unserem Location Sponsor ETC und unserem Gold Spon
 sor AvePoint für die Unterstützung dieses Community Events.\nAnmeldung\n
 Die Teilnahme ist kostenlos - Anmeldung über die Website
CATEGORIES:Partnerevent
LOCATION:Enterprise Training Center im MGC\, Modecenterstrasse 22/Office 4\
 , Wien\, 1030\, Österreich
GEO:48.1837257;16.412926999999968
X-APPLE-STRUCTURED-LOCATION;VALUE=URI;X-ADDRESS=Modecenterstrasse 22/Office
  4\, Wien\, 1030\, Österreich;X-APPLE-RADIUS=100;X-TITLE=Enterprise Train
 ing Center im MGC:geo:48.1837257,16.412926999999968
END:VEVENT
BEGIN:VTIMEZONE
TZID:Europe/Berlin
X-LIC-LOCATION:Europe/Berlin
BEGIN:STANDARD
DTSTART:20151025T020000
TZOFFSETFROM:+0200
TZOFFSETTO:+0100
TZNAME:CET
END:STANDARD
END:VTIMEZONE
END:VCALENDAR