BEGIN:VCALENDAR
VERSION:2.0
PRODID:-//wp-events-plugin.com//7.2.3.1//EN
TZID:Europe/Berlin
X-WR-TIMEZONE:Europe/Berlin
BEGIN:VEVENT
UID:6-98@sharepointsocial.de
DTSTART;TZID=Europe/Berlin:20160412T100000
DTEND;TZID=Europe/Berlin:20160412T110000
DTSTAMP:20160406T154519Z
URL:https://sharepointsocial.de/events/nteam-universal-apps-teil-2/
SUMMARY:nteam Universal Apps Teil 2
DESCRIPTION:Ein nteam Webinar\nIn vielen Unternehmen arbeiten Mitarbeiter z
 unehmend mobil. Sie möchten von unterwegs Zugriff auf Ihren Arbeitsraum h
 aben und sich über verschiedene Geräte verbinden können. Der Anwender k
 ann je nach Situation entscheiden über Smartphone\, Tablet oder Desktop-P
 C zu arbeiten.\n\nMit der Mobilität der Anwender gewinnt auch die Entwick
 lung von Apps\, welche auf den verschiedenen Endgeräten genutzt werden k
 önnen\, an Bedeutung. Wir möchten Ihnen gern bei diesem Thema zur Seite 
 stehen und bieten in drei Webinar Terminen die nötigen Informationen um e
 ine App erfolgreich von der Idee bis in den Microsoft-Store zu bringen.\nW
 ebinar 2 - Wie bringe ich eine Universal App\nin den Store?\n\n	Windows St
 ore Richtlinien\n	App-Einreichung\n	Zertifizierungsprozess\n	Preise und Ve
 rfügbarkeit\n	Fragen /Diskussionsrunde\n	Sprecher: Martin Sander\, Berei
 chsleiter Entwicklung nteam\n\nAnmeldung\nÜber die Eventwebsite
ATTACH;FMTTYPE=image/jpeg:https://sharepointsocial.de/files/2012/10/nteam-
 1.jpg
CATEGORIES:Webcast
END:VEVENT
BEGIN:VTIMEZONE
TZID:Europe/Berlin
X-LIC-LOCATION:Europe/Berlin
BEGIN:DAYLIGHT
DTSTART:20160327T030000
TZOFFSETFROM:+0100
TZOFFSETTO:+0200
TZNAME:CEST
END:DAYLIGHT
END:VTIMEZONE
END:VCALENDAR