BEGIN:VCALENDAR
VERSION:2.0
PRODID:-//wp-events-plugin.com//7.2.3.1//EN
TZID:Europe/Berlin
X-WR-TIMEZONE:Europe/Berlin
BEGIN:VEVENT
UID:6-97@sharepointsocial.de
DTSTART;TZID=Europe/Berlin:20160315T100000
DTEND;TZID=Europe/Berlin:20160315T110000
DTSTAMP:20160215T115650Z
URL:https://sharepointsocial.de/events/nteam-universal-apps-teil-1/
SUMMARY:nteam Universal Apps Teil 1
DESCRIPTION:Ein nteam Webinar\n\nIn vielen Unternehmen arbeiten Mitarbeiter
  zunehmend mobil. Sie möchten von unterwegs Zugriff auf Ihren Arbeitsraum
  haben und sich über verschiedene Geräte verbinden können. Der Anwender
  kann je nach Situation entscheiden über Smartphone\, Tablet oder Desktop
 -PC zu arbeiten.\n\nMit der Mobilität der Anwender gewinnt auch die Entwi
 cklung von Apps\, welche auf den verschiedenen Endgeräten genutzt werden 
 können\, an Bedeutung. Wir möchten Ihnen gern bei diesem Thema zur Seite
  stehen und bieten in drei Webinar Terminen die nötigen Informationen um 
 eine App erfolgreich von der Idee bis in den Microsoft-Store zu bringen.\n
 Webinar 1 - Universal Apps: Überblick\n\n	Einführung ins Thema Universal
  Apps\n	Vorteile + Einsatzszenarien\n	Demo von Beispiel-Apps\n	Fragen /Dis
 kussionsrunde\n	Sprecher: Martin Sander\, Bereichsleiter Entwicklung ntea
 m\n\nAnmeldung\nÜber die Eventwebsite
ATTACH;FMTTYPE=image/jpeg:https://sharepointsocial.de/files/2012/10/nteam-
 1.jpg
CATEGORIES:Webcast
END:VEVENT
BEGIN:VTIMEZONE
TZID:Europe/Berlin
X-LIC-LOCATION:Europe/Berlin
BEGIN:STANDARD
DTSTART:20151025T020000
TZOFFSETFROM:+0200
TZOFFSETTO:+0100
TZNAME:CET
END:STANDARD
END:VTIMEZONE
END:VCALENDAR