BEGIN:VCALENDAR
VERSION:2.0
PRODID:-//wp-events-plugin.com//7.2.3.1//EN
TZID:Europe/Berlin
X-WR-TIMEZONE:Europe/Berlin
BEGIN:VEVENT
UID:0-1793@sharepointsocial.de
DTSTART;TZID=Europe/Berlin:20210617T100000
DTEND;TZID=Europe/Berlin:20210617T110000
DTSTAMP:20210507T155029Z
URL:https://sharepointsocial.de/events/nteam-communication-days-2021-micro
 soft-teams-telefonie-in-der-praxis/
SUMMARY:nteam Communication Days 2021 Microsoft Teams Telefonie in der Prax
 is
DESCRIPTION:Ein nteam Webinar\n\nMit der Pandemie ist auch die Nachfrage na
 ch Videokonferenzen und Collaboration-Tools mehr gestiegen denn je.\n\nMic
 rosoft Teams bietet hier fast das "Rund-um-Sorglos-Paket\, welches für ei
 ne gute Zusammenarbeit notwendig ist. Fast? Häufig fehlt eine vernünftig
 e Telefonie-Integration. Doch das lässt sich ändern!\n\nWir zeigen Ihnen
 \, anhand eines Praxisbeispiels\, wie Sie Ihre Telefonanlage in das Collab
 oration-Tool integrieren und so ganz einfach mit Microsoft Teams telefonie
 ren können.
CATEGORIES:Webcast
LOCATION:https://nteam.de/communicationdays2021-teil3
END:VEVENT
BEGIN:VTIMEZONE
TZID:Europe/Berlin
X-LIC-LOCATION:Europe/Berlin
BEGIN:DAYLIGHT
DTSTART:20210328T030000
TZOFFSETFROM:+0100
TZOFFSETTO:+0200
TZNAME:CEST
END:DAYLIGHT
END:VTIMEZONE
END:VCALENDAR