BEGIN:VCALENDAR
VERSION:2.0
PRODID:-//wp-events-plugin.com//7.2.3.1//EN
TZID:Europe/Berlin
X-WR-TIMEZONE:Europe/Berlin
BEGIN:VEVENT
UID:6-40@sharepointsocial.de
DTSTART;TZID=Europe/Berlin:20150505T093000
DTEND;TZID=Europe/Berlin:20150505T160000
DTSTAMP:20150326T140749Z
URL:https://sharepointsocial.de/events/netmedia-roadshow-muenchen-erfolgre
 iche-intranets-und-digitale-kollaboration-mit-sharepoint-office-365/
SUMMARY:Netmedia Roadshow München: Erfolgreiche Intranets und digitale Kol
 laboration mit SharePoint & Office 365
DESCRIPTION:Mit Energie und Tatendrang begrüßt Netmedia den Mai. Warum da
 nn nicht gleich auch neue Kontakte knüpfen\, frische Ideen und Inspiratio
 nen sammeln\, die Sie wertvoll ins neue Jahr begleiten? Das können Sie je
 tzt ganz einfach und gleich mit einer wertvollen Veranstaltung.\n\nUnter d
 em Motto "Mehr Akzeptanz für Ihr SharePoint und O365 Projekt!" laden Micr
 osoft und netmedia nach München ein\, bei welcher es sich inhaltlich um 
 die Frage drehen wird\, wie Sie mehr Engagement für Ihr Social Collaborat
 ion Projekt erreichen\, um einen höheren Business Nutzen erzielen zu kön
 nen.\nFür wen ist diese Veranstaltung interessant?\nNutzen Sie die Gelege
 nheit sich mit Entscheidern aus Fachabteilungen sowie aus der IT und der U
 nternehmenskommunikation an einen Tisch zu setzen\, und fühlen Sie sich e
 ingeladen\, sich mit ihnen zu dem Thema der Mitarbeiterakzeptanz bei Share
 Point und Office 365 Projekten auszutauschen.\nWorum es geht?\nIn einer de
 r schönsten Städte Deutschlands werden Sie in den Räumlichkeiten von Mi
 crosoft herzlich willkommen geheißen. In den Impulsvorträgen von Microso
 ft und netmedia steigen Sie dann schon gleich tief ins Thema Mitarbeiterak
 zeptanz ein und erhalten auch in den darauffolgenden Vorträgen wertvolle 
 Eindrücke\, wie Mensch\, Business und Technik strategisch in Einklang geb
 racht werden können. Ein interaktives Element wird Ihnen nach dem Mittage
 ssen die Möglichkeit geben\, sich einzubringen. Hier haben Ihre persönli
 chen Fragen Platz\, deren Antworten mit den Moderatoren und den anderen Te
 ilnehmerinnen und Teilnehmern aktiv erarbeitet werden. Zwischen den einzel
 nen Tracks wird es auch immer wieder Gelegenheiten zum Netzwerken für Sie
  geben. Selbstverständlich ist während des gesamten Tages für Ihr leibl
 iches Wohl gesorgt.\nWarum ist das Thema Mitarbeiterakzeptanz wichtig?\nWe
 m es gelingt\, die Mitarbeiter von Social Collaboration zu überzeugen und
  diese aktiv virtuell zusammenarbeiten\, hat einen entscheidenden Wettbewe
 rbsvorteil. Je intensiver der digitale Dialog und Austausch in Projekten i
 st\, umso effektiver kann gearbeitet werden. Ideenmanagement\, Expertenfin
 den\, Onboarding\, schnellerer ROI nach der Anschaffung von Social Softwar
 e - das alles sind häufig elementare Erfolgsfaktoren für Ihr Business\, 
 die ohne Mitarbeiterakzeptanz nie den strategischen Unternehmenszielen ger
 echt werden. Nur wer sich intensiv mit dem Thema beschäftigt\, wird auf l
 ange Sicht Erfolg bei der unternehmensweiten virtuellen Zusammenarbeit hab
 en.\nAgenda\n\n	9:30 Uhr Come together\n	10:00 Uhr Willkommen\n	10:10 Uhr 
 Impulsvortrag netmedia: Warum nur ein "One Workplace"-Ansatz für breite A
 kzeptanz sorgt\n	10:40 Uhr Impulsvortrag Microsoft: Warum und wann entsche
 ide ich mich für Yammer\, Lync\, Outlook &amp\; Co.?\n	11:00 Uhr Akzeptan
 z als wichtigster Erfolgsfaktor für sozialvernetzte Zusammenarbeit und Pr
 axisbeispiele für Einführungsstrategien\n	12:00 Uhr Mittagessen\n	13:30 
 - 15:00 Uhr Interaktiver Workshop: Projektvorgehen &amp\; -herausforderung
 en bei der Social Collaboration\n	15:00 Uhr Kaffeepause\n	15:15 Uhr Die 4 
 Projektphasen zum erfolgreichen Social Intranet/Kollaborationsprojekt auf 
 SharePoint und Office 365\n	16:00 Uhr Abschluss\n\nIhr Nutzen\n\n	Erreiche
 n Sie einen schnelleren ROI nach der Anschaffung Ihrer Social Software dur
 ch mehr strategisches Wissen bei der Einführung.\n	Lernen Sie das praxisb
 ewährte Adoption Framework von netmedia kennen\, mit welchem Sie nachweis
 lich Projektkosten einsparen können.\n	Nutzen Sie die Gelegenheit\, auf I
 hre persönlichen Fragen Antworten von den Experten zu bekommen.\n\nWichti
 ger Hinweis\nBitte haben Sie Verständnis dafür\, dass wir uns vorbehalte
 n\, Dienstleister und Softwareanbieter aus der Veranstaltung auszuschließ
 en. Sollten Sie von uns als Dienstleister oder Softwareanbieter fälschlic
 herweise eine Einladung erhalten haben\, entschuldigen wir uns aufrichtig 
 dafür.\n\n&nbsp\;\n\n[su_box title="Info + Anmeldung" style="soft"]Infos 
 und Anmeldung über die Eventwebsite[/su_box]\n\n&nbsp\;
CATEGORIES:Partnerevent
LOCATION:Microsoft Deutschland GmbH\, Konrad-Zuse-Str\, Unterschleißheim\,
  Deutschland
GEO:48.2913403;11.580736800000068
X-APPLE-STRUCTURED-LOCATION;VALUE=URI;X-ADDRESS=Konrad-Zuse-Str\, Unterschl
 eißheim\, Deutschland;X-APPLE-RADIUS=100;X-TITLE=Microsoft Deutschland Gm
 bH:geo:48.2913403,11.580736800000068
END:VEVENT
BEGIN:VTIMEZONE
TZID:Europe/Berlin
X-LIC-LOCATION:Europe/Berlin
BEGIN:DAYLIGHT
DTSTART:20150329T030000
TZOFFSETFROM:+0100
TZOFFSETTO:+0200
TZNAME:CEST
END:DAYLIGHT
END:VTIMEZONE
END:VCALENDAR