BEGIN:VCALENDAR
VERSION:2.0
PRODID:-//wp-events-plugin.com//7.2.3.1//EN
TZID:Europe/Berlin
X-WR-TIMEZONE:Europe/Berlin
BEGIN:VEVENT
UID:6-553@sharepointsocial.de
DTSTART;TZID=Europe/Berlin:20170919T183000
DTEND;TZID=Europe/Berlin:20170919T210000
DTSTAMP:20170913T100023Z
URL:https://sharepointsocial.de/events/msccch-092017-offene-runde-in-hanno
 ver/
SUMMARY:MSCCCH 09/2017: Offene Runde in Hannover
DESCRIPTION:Dieses Mal wollen wir eine offene Runde ohne Vorträge veransta
 lten und uns gemeinsam über uns interessierenden Themen Rund um Office 3
 65\, Azure/Cloud und SharePoint unterhalten.\n\nEinleitend berichtet Stefa
 n uns zu Neuigkeiten um Microsoft PowerApps und Microsoft Flow und Tomisla
 v Rund um Microsoft Teams und Microsoft Stream. Wenn jemand weitere Vorsch
 läge hat oder doch einen Vortrag halten möchte\, bitte Info an uns oder 
 einfach den Event kommentieren.\n\nACHTUNG: Neue Location! Wir sitzen in 
 der Lounge von Tiffany’s Café Bar Hannover!\n\nAnmeldung über XING
CATEGORIES:UserGroup
LOCATION:Tiffany's Café Bar\, Schiffgraben 48\, Hannover\, 30175\, Deutsch
 land
GEO:52.3762152;9.753216599999973
X-APPLE-STRUCTURED-LOCATION;VALUE=URI;X-ADDRESS=Schiffgraben 48\, Hannover\
 , 30175\, Deutschland;X-APPLE-RADIUS=100;X-TITLE=Tiffany's Café Bar:geo:5
 2.3762152,9.753216599999973
END:VEVENT
BEGIN:VTIMEZONE
TZID:Europe/Berlin
X-LIC-LOCATION:Europe/Berlin
BEGIN:DAYLIGHT
DTSTART:20170326T030000
TZOFFSETFROM:+0100
TZOFFSETTO:+0200
TZNAME:CEST
END:DAYLIGHT
END:VTIMEZONE
END:VCALENDAR