BEGIN:VCALENDAR
VERSION:2.0
PRODID:-//wp-events-plugin.com//7.2.3.1//EN
TZID:Europe/Berlin
X-WR-TIMEZONE:Europe/Berlin
BEGIN:VEVENT
UID:0-2395@sharepointsocial.de
DTSTART;TZID=Europe/Berlin:20240905T180000
DTEND;TZID=Europe/Berlin:20240905T210000
DTSTAMP:20240716T053758Z
URL:https://sharepointsocial.de/events/modern-work-muenster-team-zusammena
 rbeit-viva-la-mitarbeiter-experience/
SUMMARY:Modern work Münster Team Zusammenarbeit - Viva la Mitarbeiter Expe
 rience!
DESCRIPTION:\nHallo ihr Lieben\,\n\n\nnachdem alle gut erholt aus den Somme
 rferien zurück sind\, starten wir am 05.09 wieder mit unserem Meetup. Bei
  hoffentlich gutem Wetter bietet wir Raum für spannende fachliche Eindrü
 cke und eine entspannte Atmosphäre für den persönlichen Erfahrungsausta
 usch - sowohl mit unserem Referenten als auch untereinander. Wir freuen un
 s schon sehr euch wieder bei uns begrüßen zu dürfen.\nRagnar Heil (MVP)
  - als Business Development Manager bei der HanseVision schlägt sein Herz
  schon seid Jahren für Microsoft Technologie und hier insbesondere rund u
 m Modern Work und Mitarbeiter Experience. Ragnar ist seid vielen Jahren fe
 ster Bestandteil der Community - neben Microsoft Technologie auch mit dem 
 Thema Working Out Loud.\nAgenda:\n18:00 - 18:30: Ankommen und Networking\n
 18:30 - 19:30: Ragnar Heil - Microsoft Viva Update - Microsoft positionier
 t in 2024 die Viva Suite neu. Was können die neuen Module wie Glint\, Amp
 lify\, Answers und Pulse konkret? Wie unterstützt Copilot bei der Employe
 e Experience? Was hat sich getan bei den Klassikern wie Connections\, Enga
 ge\, Learning und Insights? Wir blicken auch in die Roadmap und haben Zeit
  für Diskussionen und Austausch von Erfahrungen\nab 19:30: Chill &amp\; G
 rill: Networking auf unserer Dachterrasse bei Würstchen und Bier (oder so
 nstigen Getränken)\n\nAnmeldung über https://www.meetup.com/modern-work-
 munster/events/299213426/\n\n
CATEGORIES:Meetup
LOCATION:busitec GmbH\, Martin-Luther-King-Weg 8\, Münster\, 48155\, Deuts
 chland
GEO:51.988136;7.665996
X-APPLE-STRUCTURED-LOCATION;VALUE=URI;X-ADDRESS=Martin-Luther-King-Weg 8\, 
 Münster\, 48155\, Deutschland;X-APPLE-RADIUS=100;X-TITLE=busitec GmbH:geo
 :51.988136,7.665996
END:VEVENT
BEGIN:VTIMEZONE
TZID:Europe/Berlin
X-LIC-LOCATION:Europe/Berlin
BEGIN:DAYLIGHT
DTSTART:20240331T030000
TZOFFSETFROM:+0100
TZOFFSETTO:+0200
TZNAME:CEST
END:DAYLIGHT
END:VTIMEZONE
END:VCALENDAR