BEGIN:VCALENDAR
VERSION:2.0
PRODID:-//wp-events-plugin.com//7.2.3.1//EN
TZID:Europe/Berlin
X-WR-TIMEZONE:Europe/Berlin
BEGIN:VEVENT
UID:0-2408@sharepointsocial.de
DTSTART;TZID=Europe/Berlin:20240919T140000
DTEND;TZID=Europe/Berlin:20240919T150000
DTSTAMP:20240829T103100Z
URL:https://sharepointsocial.de/events/modern-work-club-2-copilot-im-meeti
 ngraum-worauf-sie-achten-sollten/
SUMMARY:Modern Work Club #2: Copilot im Meetingraum: Worauf Sie achten soll
 ten
DESCRIPTION:Präsentationssprache(n): Deutsch\nUntertitelsprache(n): Deut
 sch\n\n\n\n\nWillkommen zur zweiten Folge der Modern Work Club Show\, dem 
 Format für alle\, die das volle Potenzial von Microsoft 365 und Copilot a
 usschöpfen möchten. Unsere Show verbindet Sie mit der dynamischen Modern
  Work Community und bietet Ihnen regelmäßig spannende Einblicke in die n
 euesten Technologien und Trends.\n\nCopilot im Meetingraum: Worauf Sie ach
 ten sollten\n\nIn der heutigen Arbeitswelt sind hybride und Vor-Ort-Bespre
 chungen zur Norm geworden. Microsoft 365 Copilot ist dabei ein unverzichtb
 ares Werkzeug für viele Information Worker. Es unterstützt Sie dabei\, w
 ährend und nach Meetings produktiv zu bleiben\, indem es wichtige Informa
 tionen organisiert und Aufgaben korrekt zuweist. Doch wie gelingt es Copil
 ot\, die Beiträge der einzelnen Teilnehmer korrekt zu identifizieren\, in
 sbesondere in einem Raum voller Menschen? Und wie muss ein idealer Meeting
 raum aufgebaut sein?\n\n\n\n1. News: Aktuelle Updates bei Microsoft 365 un
 d Copilot.\n\n2. Thema des Tages:\n\n 	Personenidentifizierung im Meetingr
 aum: Lernen Sie\, wie Copilot die Beiträge einzelner Personen im Raum ide
 ntifiziert und korrekt zuordnet\, um präzise Aufgaben und Zusammenfassung
 en zu erstellen.\n 	Sprachprofile effektiv nutzen: Erfahren Sie\, wie Sie 
 Sprachprofile hinterlegen und in verschiedenen Szenarien – vor Ort im Me
 etingraum\, im Homeoffice oder in Telefongesprächen – erfolgreich einse
 tzen.\n\n3. Events: Informationen über anstehende Veranstaltungen und Ver
 netzungsmöglichkeiten.\n\n4. MVP Corner: Sehen Sie in einer Live-Demo\, w
 ie Copilot in Echtzeit arbeitet und die Effizienz Ihrer Meetings steigert.
 \n\n5. Club Talk – Eure Fragen: Tauschen Sie sich mit den ExpertInnen au
 s und erhalten Sie praktische Tipps zur Optimierung Ihrer Arbeitsweise.\n\
 n\nErfahren Sie\, wie Sie Meetings effektiver gestalten und das volle Pote
 nzial von Microsoft 365 Copilot nutzen können\, um produktiver zu arbeite
 n. Melden Sie sich jetzt an und werden Sie Teil unserer inspirierenden Com
 munity!\n\n\n\n
CATEGORIES:Meetup,Webcast
LOCATION:https://msevents.microsoft.com/event?id=1374726455
END:VEVENT
BEGIN:VTIMEZONE
TZID:Europe/Berlin
X-LIC-LOCATION:Europe/Berlin
BEGIN:DAYLIGHT
DTSTART:20240331T030000
TZOFFSETFROM:+0100
TZOFFSETTO:+0200
TZNAME:CEST
END:DAYLIGHT
END:VTIMEZONE
END:VCALENDAR