BEGIN:VCALENDAR
VERSION:2.0
PRODID:-//wp-events-plugin.com//7.2.3.1//EN
TZID:Europe/Berlin
X-WR-TIMEZONE:Europe/Berlin
BEGIN:VEVENT
UID:0-2407@sharepointsocial.de
DTSTART;TZID=Europe/Berlin:20240912T140000
DTEND;TZID=Europe/Berlin:20240912T150000
DTSTAMP:20240829T102944Z
URL:https://sharepointsocial.de/events/modern-work-club-1-wie-copilot-firm
 en-jeder-groesse-zukunftsfaehig-macht/
SUMMARY:Modern Work Club #1: Wie Copilot Firmen jeder Größe zukunftsfähi
 g macht
DESCRIPTION:Willkommen zur Premiere der Modern Work Club Show\, Ihrer Show 
 für alles rund um Microsoft 365 und Copilot. Dieses innovative Format ver
 bindet Sie direkt mit der Modern Work Community und bietet spannende Einbl
 icke\, die Sie nicht verpassen sollten.\n\nJede Folge beleuchtet ein spezi
 fisches Thema\, das von einem Gast und Experten eingehend erklärt wird. D
 azu gehören praxisnahe Beispiele und beeindruckende Live-Demos. Ihre Frag
 en stehen im Mittelpunkt\, sodass Sie aktiv an der Show teilnehmen können
 .\n\nIn der ersten Folge entdecken Sie\, wie Copilot die Arbeitswelt für 
 alle MitarbeiterInnen revolutioniert\, egal ob in großen Unternehmen\, i
 m Mittelstand oder bei Hidden Champions.\n\nEntdecken Sie\, wie Copilot ni
 cht nur die Effizienz steigert\, sondern auch die Art und Weise\, wie wir 
 arbeiten\, grundlegend verändert. Lassen Sie sich zeigen\, wie jeder Mita
 rbeiterInnen von den Vorteilen profitieren kann\, unabhängig von der Unte
 rnehmensgröße.\n\nAgenda: \n\n 	News: Aktuelle Updates bei Microsoft 365
  und Copilot.\n 	Thema des Tages: Einblicke in die vielfältigen Einsatzm
 öglichkeiten von Copilot.\n 	Events: Informationen über anstehende Veran
 staltungen und Vernetzungsmöglichkeiten.\n 	MVP Corner: Lernen von den Be
 sten - Einblicke von unseren Microsoft Most Valuable Professionals.\n 	Clu
 b Talk – Eure Fragen: Stellen Sie Ihre Fragen live und erhalten Sie Antw
 orten von unseren Experten.\n\nNutzen Sie diese Gelegenheit\, sich anzumel
 den und all die Premiere der neuen Modern Work Club Show zu erleben. Freue
 n Sie sich auf inspirierende Inhalte und einen regen Austausch mit Gleichg
 esinnten.
CATEGORIES:Meetup,Webcast
LOCATION:https://msevents.microsoft.com/event?id=2937845221
END:VEVENT
BEGIN:VTIMEZONE
TZID:Europe/Berlin
X-LIC-LOCATION:Europe/Berlin
BEGIN:DAYLIGHT
DTSTART:20240331T030000
TZOFFSETFROM:+0100
TZOFFSETTO:+0200
TZNAME:CEST
END:DAYLIGHT
END:VTIMEZONE
END:VCALENDAR