BEGIN:VCALENDAR
VERSION:2.0
PRODID:-//wp-events-plugin.com//7.2.3.1//EN
TZID:Europe/Berlin
X-WR-TIMEZONE:Europe/Berlin
BEGIN:VEVENT
UID:6-552@sharepointsocial.de
DTSTART;TZID=Europe/Berlin:20170915T100000
DTEND;TZID=Europe/Berlin:20170915T110000
DTSTAMP:20170911T122431Z
URL:https://sharepointsocial.de/events/mobile-workspace-mobile-endgeraete-
 sicher-in-die-unternehmens-it-integrieren/
SUMMARY:Mobile Workspace -  mobile Endgeräte sicher in die Unternehmens-IT
  integrieren
DESCRIPTION:Ein Micro Focus Webinar\n\nModerne Smartphones ermöglichen Mit
 arbeiter auch mit ihren privaten Telefonen auf Firmendaten zuzugreifen.\nW
 ie gebe ich als Unternehmen einen sicheren Zugang zu z.B. eMail und Kalend
 erinformation\, den ich auch wieder zurücknehmen kann ohne den Mitarbeite
 r bei der Anwendung des Geräts einzuschränken?\n\nMAM\, BYOD\, EMM\, Con
 tainer\, eMail und jetzt ZENworks Mobile Workspace. Wir bringen in diesem 
 Webcast alles zusammen und zeigen Ihnen\, wie wir mit unserer neuen Lösun
 g helfen können.\n\nKostenlose Anmeldung
CATEGORIES:Webcast
END:VEVENT
BEGIN:VTIMEZONE
TZID:Europe/Berlin
X-LIC-LOCATION:Europe/Berlin
BEGIN:DAYLIGHT
DTSTART:20170326T030000
TZOFFSETFROM:+0100
TZOFFSETTO:+0200
TZNAME:CEST
END:DAYLIGHT
END:VTIMEZONE
END:VCALENDAR