BEGIN:VCALENDAR
VERSION:2.0
PRODID:-//wp-events-plugin.com//7.2.3.1//EN
TZID:Europe/Berlin
X-WR-TIMEZONE:Europe/Berlin
BEGIN:VEVENT
UID:6-266@sharepointsocial.de
DTSTART;TZID=Europe/Berlin:20161124T093000
DTEND;TZID=Europe/Berlin:20161124T130000
DTSTAMP:20161101T095404Z
URL:https://sharepointsocial.de/events/mobile-round-table-your-intranet-in
 -your-pocket/
SUMMARY:Mobile Round Table – Your Intranet in your Pocket
DESCRIPTION:Ein Event der Next Iteration GmbH\n\n&nbsp\;\n\nBeim Mobile Rou
 nd Table zum Thema Your Intranet in your Pocket behandeln wir gemeinsam mi
 t unserem Partnern der intellecom GmbH und der Microsoft Deutschland GmbH 
 die Themen Enterprise Mobility und Security sowie die mobilen Einsatzszena
 rien für Intranet und Anwendungen.\nInhalte: Mobile Rund Table – Your I
 ntranet in your Pocket\nIn unserem Alltag haben mobile Endgeräte längst 
 Einzug gehalten. Ein Großteil der Kommunikation läuft über digitale Kan
 äle.\n\nAuch im Arbeitsleben hält das mobilere und kolloborativere Arbei
 ten immer mehr Einzug. Das Bereitstellen von mobilen und kolloborationsfä
 higen Arbeitsplätzen ist ein Muss\, um wettbewerbsfähig bleiben zu könn
 en. Indem man seinen Mitarbeitern die richtigen Werkzeuge in die Hand gibt
 \, fördert man nicht nur schnelleres und besseres Arbeiten\, sondern wird
  auch ein attraktiverer Arbeitgeber.\n\nDamit seine Mitarbeiter mit Smartp
 hones auszustatten ist es aber nicht getan. Das digitale Arbeiten muss nah
 tlos in das Unternehmen eingearbeitet werden. Begonnen mit der Bereitstell
 ung eines mobilen Arbeitsplatzes\, über die Verfügbarkeit von Daten und 
 Kolloborationswerkzeugen bis hin zur Sicherheit der Endgeräte und Anwendu
 ngen muss für die Mitarbeiter alles bereitstehen.\n\nGemeinsam mit der In
 tellecom GmbH zeigen wir Ihnen in dieser Veranstaltung\, welche Möglichke
 iten Microsoft in den Bereichen Enterprise Mobility and Security (EMS) und
  Anwendungen für mobile Endgeräte bereitstellt.\nAnmeldung und Agenda\nA
 nmeldung über die Eventwebiste
ATTACH;FMTTYPE=image/jpeg:https://sharepointsocial.de/files/2016/11/Chat.p
 ng
CATEGORIES:Partnerevent
LOCATION:Mövenpick Hotel Stuttgart\, Flughafenstr. 50 \, Stuttgart\, 70629
 \, Deutschland
GEO:48.6921538;9.193711399999984
X-APPLE-STRUCTURED-LOCATION;VALUE=URI;X-ADDRESS=Flughafenstr. 50 \, Stuttga
 rt\, 70629\, Deutschland;X-APPLE-RADIUS=100;X-TITLE=Mövenpick Hotel Stutt
 gart:geo:48.6921538,9.193711399999984
END:VEVENT
BEGIN:VTIMEZONE
TZID:Europe/Berlin
X-LIC-LOCATION:Europe/Berlin
BEGIN:STANDARD
DTSTART:20161030T020000
TZOFFSETFROM:+0200
TZOFFSETTO:+0100
TZNAME:CET
END:STANDARD
END:VTIMEZONE
END:VCALENDAR