BEGIN:VCALENDAR
VERSION:2.0
PRODID:-//wp-events-plugin.com//7.2.3.1//EN
TZID:Europe/Berlin
X-WR-TIMEZONE:Europe/Berlin
BEGIN:VEVENT
UID:0-1569@sharepointsocial.de
DTSTART;TZID=Europe/Berlin:20200929T100000
DTEND;TZID=Europe/Berlin:20200929T110000
DTSTAMP:20200820T120259Z
URL:https://sharepointsocial.de/events/microsoft-webinar-azure-cloud-adopt
 ion-framework/
SUMMARY:Microsoft Webinar: Azure Cloud Adoption Framework
DESCRIPTION:Strategie\, Betrieb\, Verwaltung: So unterstützt Sie das Cloud
  Adoption Framework bei Governance und Vorgehen in Cloud-Projekten.\n\nUnt
 ernehmen setzen heutzutage verstärkt auf die Nutzung von Cloud-Diensten 
 – und damit einher geht auch eine grundlegende Veränderung bei Beschaff
 ung\, Nutzung und Verwaltung von IT-Ressourcen. Aufbau- und Ablauforganisa
 tion der IT benötigen eine bewährte und einheitliche Methodik.\n\nUm Sie
  beim Erreichen Ihrer geschäftlichen Ziele optimal zu unterstützen\, hab
 en wir Best Practices aus Kunden- und Partnerprojekten zusammengefasst\, m
 it Industriestandards für IT-Betrieb und IT-Governance abgeglichen und im
  Cloud Adoption Framework gebündelt. Es bildet damit die Grundlage für j
 ede erfolgreiche Cloud Transformation.\n\nIn diesem Webinar vermitteln wir
  Ihnen die Grundlagen der Cloud-Einführung und präsentieren Ihnen Tools 
 und Best Practices\, um Ihnen diese zu vereinfachen:\n\n 	Erfahrungen eine
 r Cloud-Migration\n 	Überblick über das Cloud Adoption Framework\n 	Vors
 tellung Tools und Best Practices\n 	Next Steps\n\nDieses Webinar richtet s
 ich an Business- und IT-Entscheider sowie Architekten und IT-Projektleiter
 \, die vor einer Cloud-Umsetzung stehen oder bereits erste Cloud-Dienste i
 n ihrer Organisation eingeführt haben und nun eine Professionalisierung d
 es Cloud-Betriebs anstreben. Ebenso wichtig ist es für TDMs in Unternehm
 en\, die sich mit IT-Infrastruktur und Server-Migration beschäftigen.\n\n
 Das Cloud Adoption Framework nimmt technischen Bezug auf Microsoft Azure\,
  bietet aber - wann immer möglich - Anbieter-agnostische Hinweise. Das We
 binar ist also auch interessant\, wenn noch keine finale Entscheidung für
  einen bestimmten Cloud-Anbieter getroffen wurde.\n\n\nSprecher\n\n\n\n\nM
 aria Theilemann\nCloud Solution Architect\nMicrosoft Deutschland GmbH\n\n\
 n\n&nbsp\;\n\n\n\n\n\n\n\nSarah Wendel\nCloud Solution Architect\nMicrosof
 t Deutschland GmbH\n\n\n
CATEGORIES:Webcast
LOCATION:https://info.microsoft.com/DE-AzureMig-WBNR-FY21-09Sep-24-Microsof
 tWebinarAzureCloudAdoptionFramework-SRDEM36916_LP01Registration-ForminBody
 .html
END:VEVENT
BEGIN:VTIMEZONE
TZID:Europe/Berlin
X-LIC-LOCATION:Europe/Berlin
BEGIN:DAYLIGHT
DTSTART:20200329T030000
TZOFFSETFROM:+0100
TZOFFSETTO:+0200
TZNAME:CEST
END:DAYLIGHT
END:VTIMEZONE
END:VCALENDAR