BEGIN:VCALENDAR
VERSION:2.0
PRODID:-//wp-events-plugin.com//7.2.3.1//EN
TZID:Europe/Berlin
X-WR-TIMEZONE:Europe/Berlin
BEGIN:VEVENT
UID:0-1787@sharepointsocial.de
DTSTART;TZID=Europe/Berlin:20210520T110000
DTEND;TZID=Europe/Berlin:20210520T120000
DTSTAMP:20210507T154127Z
URL:https://sharepointsocial.de/events/microsoft-viva-die-zukunft-von-empl
 oyee-experience/
SUMMARY:Microsoft Viva - Die Zukunft von Employee Experience
DESCRIPTION:Ein Omnia Webinar\nMit Viva stellt Microsoft seinen Usern eine 
 Employee Experience Plattform zur Verfügung\, die individuelle Arbeitswei
 sen bestmöglich unterstützen und fördern soll.\nDas Besondere: Viva bü
 ndelt Inhalte und verknüpft Tools in den vier Kernbereichen Engagement\, 
 Wohlbefinden\, Lernen und Wissen. Ist Microsoft Viva damit die Zukunft von
  Employee Experience?\nIn diesem kostenlosen Webinar schauen sich Jörg St
 appert\, Omnia Partner Sucess Manager\, und Lars Pflugmacher\, Knowledge L
 ead CMS &amp\; Trainer\, SUNZINET\, Microsoft Viva und dessen Bestandteile
  genauer an: Was leistet die Plattform eigentlich? Welche Möglichkeiten e
 rgeben sich daraus für die Interne Kommunikation - und wie profitieren Si
 e davon? Außerdem erklären unsere Experten\, wie sich Viva integrieren l
 ässt und was Sie vor einer Einführung unbedingt beachten sollten.\nAgend
 a:\n\n 	\nMicrosoft Viva: Was verspricht die neue Plattform für die Emplo
 yee Experience?\n\n 	\nVorstellung der Produkte: Viva Connections\, Viva I
 nsights\, Viva Learning\, Viva Topics\n\n 	\nWie profitiert Ihr Unternehme
 n von Viva?\n\n 	\nAuswirkungen auf Interne Kommunikation\, Digital Workpl
 ace und Unternehmenskultur\n\n 	\nIntegration Viva: Wie gehen Addons mit V
 iva um?\n\n 	\nBeispiel Omnia\n\n 	\nNext Steps: Das sollten Sie vor einer
  Viva-Einführung beachten!\n\n\nAm Ende des Webinars wird es auch eine ku
 rze Fragerunde geben.\nZielgruppe\nDiese Veranstaltung richtet sich in ers
 ter Linie an Rollen wie CIO\, CDO\, Business Developers\, Intranet oder Di
 gital Workplace Manager oder ähnliche Rollen innerhalb von Organisationen
 \, die ein neues Intranet auf der Grundlage von Microsoft-Technologie plan
 en.\nAllgemeine Informationen\nDieses Webinar ist kostenlos und findet in 
 deutscher Sprache statt. Sie können mit einem Webbrowser oder einer mobil
 en App teilnehmen.\n\nWenn Datum und Uhrzeit des Webinars für Sie nicht p
 assen\, melden Sie sich trotzdem an und wir senden Ihnen die Präsentation
  und eine Aufzeichnung des Webinars zu. Leider können wir keine Registrie
 rungen von privaten E-Mail-Adressen (gmail\, outlook\, yahoo etc.) akzepti
 eren.
CATEGORIES:Webcast
LOCATION:https://www.omniaintranet.de/omnia/wissen/webinare/webinar-microso
 ft-viva---die-zukunft-von-employee-experience/?utm_source=sharepointsocial
END:VEVENT
BEGIN:VTIMEZONE
TZID:Europe/Berlin
X-LIC-LOCATION:Europe/Berlin
BEGIN:DAYLIGHT
DTSTART:20210328T030000
TZOFFSETFROM:+0100
TZOFFSETTO:+0200
TZNAME:CEST
END:DAYLIGHT
END:VTIMEZONE
END:VCALENDAR