BEGIN:VCALENDAR
VERSION:2.0
PRODID:-//wp-events-plugin.com//7.2.3.1//EN
TZID:Europe/Berlin
X-WR-TIMEZONE:Europe/Berlin
BEGIN:VEVENT
UID:6-544@sharepointsocial.de
DTSTART;TZID=Europe/Berlin;VALUE=DATE:20180221
DTEND;TZID=Europe/Berlin;VALUE=DATE:20180223
DTSTAMP:20170902T141139Z
URL:https://sharepointsocial.de/events/microsoft-tech-summit-frankfurt-201
 8/
SUMMARY:Microsoft Tech Summit Frankfurt 2018
DESCRIPTION:Build your skills with the latest in cloud technologies at a fr
 ee\, technical learning event for IT professionals and developers\n\nREGIS
 TRATION OPENS NOVEMBER 15\, 2017
CATEGORIES:Konferenz
LOCATION:Messe Frankfurt\, Ludwig-Erhard-Anlage 1\, Frankfurt/M.\, 60327\, 
 Deutschland
GEO:50.1114569;8.652497100000005
X-APPLE-STRUCTURED-LOCATION;VALUE=URI;X-ADDRESS=Ludwig-Erhard-Anlage 1\, Fr
 ankfurt/M.\, 60327\, Deutschland;X-APPLE-RADIUS=100;X-TITLE=Messe Frankfur
 t:geo:50.1114569,8.652497100000005
END:VEVENT
BEGIN:VTIMEZONE
TZID:Europe/Berlin
X-LIC-LOCATION:Europe/Berlin
BEGIN:STANDARD
DTSTART:20171029T020000
TZOFFSETFROM:+0200
TZOFFSETTO:+0100
TZNAME:CET
END:STANDARD
END:VTIMEZONE
END:VCALENDAR