BEGIN:VCALENDAR
VERSION:2.0
PRODID:-//wp-events-plugin.com//7.2.3.1//EN
TZID:Europe/Berlin
X-WR-TIMEZONE:Europe/Berlin
BEGIN:VEVENT
UID:0-2390@sharepointsocial.de
DTSTART;TZID=Europe/Berlin:20240710T194500
DTEND;TZID=Europe/Berlin:20240710T204500
DTSTAMP:20240627T133210Z
URL:https://sharepointsocial.de/events/microsoft-teams-whats-new-juli-2024
 /
SUMMARY:Microsoft Teams - Whats new Juli 2024
DESCRIPTION:Hallo zusammen\,\nan jedem 2. Mittwoch im Monat möchte ich mit
  Euch in einem Online-Event über die Neuigkeiten aus dem Microsoft Team U
 mfeld sprechen.\nDas Event wird rein online sein\, unabhängig von Corona.
 \nHier steht Austausch im Vordergrund und der Wunsch die rasante Entwicklu
 ng mit Euch zu verfolgen und vor allem zu diskutieren.\nEs wird keine Aufz
 eichnung oder Videos auf YouTube geben.\nFreue mich auf Eure Teilnahme\,\n
 Michael
CATEGORIES:Meetup
LOCATION:https://www.meetup.com/Microsoft-Teams-MeetUp-Bochum/events/299094
 526/
END:VEVENT
BEGIN:VTIMEZONE
TZID:Europe/Berlin
X-LIC-LOCATION:Europe/Berlin
BEGIN:DAYLIGHT
DTSTART:20240331T030000
TZOFFSETFROM:+0100
TZOFFSETTO:+0200
TZNAME:CEST
END:DAYLIGHT
END:VTIMEZONE
END:VCALENDAR