BEGIN:VCALENDAR
VERSION:2.0
PRODID:-//wp-events-plugin.com//7.2.3.1//EN
TZID:Europe/Berlin
X-WR-TIMEZONE:Europe/Berlin
BEGIN:VEVENT
UID:0-2470@sharepointsocial.de
DTSTART;TZID=Europe/Berlin:20250424T170000
DTEND;TZID=Europe/Berlin:20250424T190000
DTSTAMP:20250418T172517Z
URL:https://sharepointsocial.de/events/microsoft-teams-mesh-meeting-mit-qu
 est-vr-headset/
SUMMARY:Microsoft Teams & Mesh - Meeting mit Quest VR Headset
DESCRIPTION:Was macht eigentlich Microsoft Mesh und kann man nun endlich or
 dentlich mit dem VR Headsets in Teams Meetings beitreten? Seit unserem let
 zten Treffen zur Verwendung von Microsoft Mesh auf der Quest 3 für Teams 
 Meetings ist einiges an Zeit vergangen und wir wollen doch mal sehen\, was
  sich seither so getan hat.\nUnser erstes Event mit Teams &amp\; Mesh:\nht
 tps://www.meetup.com/microsoft-teams-meetup-nurnberg/events/296994471/\nAl
 s Unterstützung für das Review und testen der aktuell verfügbaren Featu
 res haben wir mit Zaid Zaim einen MVP in Mixed Reality und Microsoft M
 esh gewinnen können\, der zum testen und für Fragen und Antworten dabei
  sein wird!\nGeplante Agenda\n- 17:00 Uhr | Treffen im Teams Meeting\n- 17
 :05 Uhr | Einführung und Recap zu Microsoft Mesh\n- 17:45 Uhr | Gemeinsam
 es Testen mit Video Feed der Quest 3 Experience\n- 18:30 Uhr | Recap und Q
 &amp\;A\nDamit auch nicht-Quest Besitzer die VR Erfahrung sehen können\, 
 wird Dennis Weber mit seinem Quest 3 Headset mit einem gemischten Videostr
 eam zeigen\, was er sieht und wie die Erfahrung im Home Office per Quest H
 eadset sich tatsächlich anfühlt.\nKommt gerne vorbei und nutzt eure Head
 sets\, sprecht über eure Erfahrungen und Erwartungen an die Zukunft und t
 eilt eure Eindrücke mit der Community. Das Event ist natürlich wieder vo
 llkommen kostenlos und ihr müsst lediglich einem Team Meeting beitreten\,
  welches ihr unter folgendem Quicklink unseres Sponsors am Tag der Veranst
 altung finden könnt\nhttps://intellity.net/JoinTeamsNueCall\nWir freuen u
 ns auf das Wiedersehen mit Teilnehmern des letzten Events und über viele 
 Ideen und Erfahrungen von euch\, denn das Motto lautet wie immer: Aus der 
 Community und für die Community!
CATEGORIES:Meetup
LOCATION:https://www.meetup.com/microsoft-teams-meetup-nurnberg/events/2969
 94471/
END:VEVENT
BEGIN:VTIMEZONE
TZID:Europe/Berlin
X-LIC-LOCATION:Europe/Berlin
BEGIN:DAYLIGHT
DTSTART:20250330T030000
TZOFFSETFROM:+0100
TZOFFSETTO:+0200
TZNAME:CEST
END:DAYLIGHT
END:VTIMEZONE
END:VCALENDAR