BEGIN:VCALENDAR
VERSION:2.0
PRODID:-//wp-events-plugin.com//7.2.3.1//EN
TZID:Europe/Berlin
X-WR-TIMEZONE:Europe/Berlin
BEGIN:VEVENT
UID:6-559@sharepointsocial.de
DTSTART;TZID=Europe/Berlin:20171122T180000
DTEND;TZID=Europe/Berlin:20171122T210000
DTSTAMP:20170918T183019Z
URL:https://sharepointsocial.de/events/microsoft-teams-meetup-munich/
SUMMARY:Microsoft Teams Meetup Munich
DESCRIPTION:Agenda folgt\nAgenda will follow\n\n&nbsp\;\n\nAnmeldung über 
 Meetup
CATEGORIES:Meetup
LOCATION:Microsoft HQ Germany\, Walter-Gropius Straße 5\, München\, 80807
 \, Deutschland
GEO:48.1788805;11.595297899999991
X-APPLE-STRUCTURED-LOCATION;VALUE=URI;X-ADDRESS=Walter-Gropius Straße 5\, 
 München\, 80807\, Deutschland;X-APPLE-RADIUS=100;X-TITLE=Microsoft HQ Ger
 many:geo:48.1788805,11.595297899999991
END:VEVENT
BEGIN:VTIMEZONE
TZID:Europe/Berlin
X-LIC-LOCATION:Europe/Berlin
BEGIN:STANDARD
DTSTART:20171029T020000
TZOFFSETFROM:+0200
TZOFFSETTO:+0100
TZNAME:CET
END:STANDARD
END:VTIMEZONE
END:VCALENDAR