BEGIN:VCALENDAR
VERSION:2.0
PRODID:-//wp-events-plugin.com//7.2.3.1//EN
TZID:Europe/Berlin
X-WR-TIMEZONE:Europe/Berlin
BEGIN:VEVENT
UID:0-1782@sharepointsocial.de
DTSTART;TZID=Europe/Berlin:20210511T194500
DTEND;TZID=Europe/Berlin:20210511T204500
DTSTAMP:20210506T101321Z
URL:https://sharepointsocial.de/events/microsoft-teams-meetup-munich-whats
 -new-5/
SUMMARY:Microsoft Teams Meetup Munich - Whats new
DESCRIPTION:Hallo zusammen\,\n\ndiesen Monat muss ich den Tag verlegen\, da
  ich am 12.05. die Teams Nation im Track Adoption und Governance moderiere
  und dies zu einem Konflikt führt.\nFreue mich dennoch auf Euch und wie i
 mmer geht es um die Neuigkeiten rund um Microsoft Teams.\n\nDas Event wird
  rein online sein\, unabhängig von Corona.\nHier steht Austausch im Vorde
 rgrund und der Wunsch die rasante Entwicklung mit Euch zu verfolgen und vo
 r allem zu diskutieren.\n\nEs wird keine Aufzeichnung oder Videos auf YouT
 ube geben.\n\nFreue mich auf Eure Teilnahme\,\nMichael
CATEGORIES:Meetup
LOCATION:https://www.meetup.com/de-DE/Microsoft-Teams-Meetup-Munich/events/
 crclxrycchbqb/
END:VEVENT
BEGIN:VTIMEZONE
TZID:Europe/Berlin
X-LIC-LOCATION:Europe/Berlin
BEGIN:DAYLIGHT
DTSTART:20210328T030000
TZOFFSETFROM:+0100
TZOFFSETTO:+0200
TZNAME:CEST
END:DAYLIGHT
END:VTIMEZONE
END:VCALENDAR