BEGIN:VCALENDAR
VERSION:2.0
PRODID:-//wp-events-plugin.com//7.2.3.1//EN
TZID:Europe/Berlin
X-WR-TIMEZONE:Europe/Berlin
BEGIN:VEVENT
UID:0-1885@sharepointsocial.de
DTSTART;TZID=Europe/Berlin:20211007T160000
DTEND;TZID=Europe/Berlin:20211007T173000
DTSTAMP:20211007T103533Z
URL:https://sharepointsocial.de/events/microsoft-teams-meetup-karlsruhe-ei
 nstieg-in-microsoft-365/
SUMMARY:Microsoft Teams Meetup Karlsruhe Einstieg in Microsoft 365
DESCRIPTION:Microsoft 365 gehört seit einiger Zeit zum festen Bestandteil 
 der Dienstlandschaft. Durch die Erweiterung der On-Premise Umgebung könne
 n die Clouddienste in Synergie mit vorhandener Umgebungen genutzt werden.\
 n\nIn diesem Online Event gibt Alexander Wachtel\, Microsoft AI MVP und Mi
 crosoft Certified Trainer\, eine Einführung in Microsoft 365:\n\n(i) die 
 Nutzungsmöglichkeiten durch die Endbenutzer sowie\n\n(ii) einen Überblic
 k der zugehörigen Administration des Dienstes im Microsoft 365 Admin Cent
 er.\n\nAbgerundet wird das Online Event durch eine lockere Ask the Expert 
 Fragerunde und gemeinsame Diskussion.\n\nKostenfreie Anmeldung:\nhttps://w
 ww.escde.training/virtual-techdays/einstieg-in-microsoft-365-oktober-2021\
 n\n____\n\nDieses Live Online Event ist teil unserer Oktober Einstiegs-Rei
 he in Microsoft Technologien:\n\n07.10.2021 -&gt\; Einstieg in Microsoft 3
 65\nhttps://www.escde.training/virtual-techdays/einstieg-in-microsoft-365-
 oktober-2021\n\n14.10.2021 -&gt\; Einstieg in Microsoft Teams\nhttps://www
 .escde.training/virtual-techdays/einstieg-in-microsoft-teams-oktober-2021\
 n\n21.10.2021 -&gt\; Einstieg in Microsoft Azure\nhttps://www.escde.traini
 ng/virtual-techdays/einstieg-in-microsoft-azure-oktober-2021\n\n28.10.2021
  -&gt\; Einstieg in Data &amp\; AI\nhttps://www.escde.training/virtual-tec
 hdays/einstieg-in-data-und-ai-oktober-2021
CATEGORIES:Meetup
LOCATION:https://www.meetup.com/de-DE/microsoft-teams-meetup-karlsruhe/even
 ts/280335039/
END:VEVENT
BEGIN:VTIMEZONE
TZID:Europe/Berlin
X-LIC-LOCATION:Europe/Berlin
BEGIN:DAYLIGHT
DTSTART:20210328T030000
TZOFFSETFROM:+0100
TZOFFSETTO:+0200
TZNAME:CEST
END:DAYLIGHT
END:VTIMEZONE
END:VCALENDAR