BEGIN:VCALENDAR
VERSION:2.0
PRODID:-//wp-events-plugin.com//7.2.3.1//EN
TZID:Europe/Berlin
X-WR-TIMEZONE:Europe/Berlin
BEGIN:VEVENT
UID:0-2360@sharepointsocial.de
DTSTART;TZID=Europe/Berlin:20240620T180000
DTEND;TZID=Europe/Berlin:20240620T203000
DTSTAMP:20240502T091125Z
URL:https://sharepointsocial.de/events/microsoft-teams-meetup-berlin-30/
SUMMARY:Microsoft Teams Meetup Berlin #30
DESCRIPTION:Agenda\n\n\n 	18:00 - 18-15 Landing Zone\n 	18:15 - 19:15 Offen
  - Möchtest du dein Thema vorstellen?\n 	19:15 - 19:45 Microsoft Teams Ne
 uigkeiten &amp\; Updates\, Thomas Stensitzki\n 	19:45 - ? Fragen und Antwo
 rten rund um Teams\n\nDiese Meetup ist als Hybrid-Meetup\, vor Ort in Berl
 in\, geplant. Der Online-Teil findet als Teams-Meeting statt.\nMeetup-Teil
 nahme Short-Link: https://teamsusergroup.berlin/meetup/\nDu möchtest ein
  Thema bei einem unserer nächsten Meetups vorstellen?\nDu hast einen Vera
 nstaltungsort?\n-&gt\; Melde dich einfach beim Orga-Team.\nHinweis zu unse
 ren Meetup-Aufzeichnungen: https://teamsusergroup.berlin/hinweis-zu-unser
 en-meetups/
CATEGORIES:Meetup
LOCATION:https://www.meetup.com/microsoft-teams-meetup-berlin/events/297717
 772/
END:VEVENT
BEGIN:VTIMEZONE
TZID:Europe/Berlin
X-LIC-LOCATION:Europe/Berlin
BEGIN:DAYLIGHT
DTSTART:20240331T030000
TZOFFSETFROM:+0100
TZOFFSETTO:+0200
TZNAME:CEST
END:DAYLIGHT
END:VTIMEZONE
END:VCALENDAR