BEGIN:VCALENDAR
VERSION:2.0
PRODID:-//wp-events-plugin.com//7.2.3.1//EN
TZID:Europe/Berlin
X-WR-TIMEZONE:Europe/Berlin
BEGIN:VEVENT
UID:0-1870@sharepointsocial.de
DTSTART;TZID=Europe/Berlin:20210927T140000
DTEND;TZID=Europe/Berlin:20210927T153000
DTSTAMP:20210921T103808Z
URL:https://sharepointsocial.de/events/microsoft-teams-governance-like-a-b
 oss-partner-roundtable-solution2share/
SUMMARY:Microsoft Teams Governance like a Boss  - Partner Roundtable Soluti
 on2Share
DESCRIPTION:In unserer Session "Microsoft Teams Governance like a Boss" erf
 ahren Sie\, wie Governance in Microsoft Teams funktioniert. Wir zeigen Ihn
 en\, mit welchen Herausforderungen Ihr Unternehmen in Microsoft Teams konf
 rontiert werden kann und wie Sie damit umgehen können.\n\nVon Datenschutz
  über Sicherheitsrisiken und unkontrollierten Wildwuchs gibt es viele The
 men\, die mit einer durchdachten Governance-Strategie gelöst werden könn
 en. Die Verwendung von Vorlagen\, Richtlinien\, Lebenszyklen\, Berechtigun
 gen und Namenskonventionen sind dabei nur einige der Optionen\, auf die wi
 r hier näher eingehen.
CATEGORIES:Partnerevent,Webcast
LOCATION:https://mktoevents.com/Microsoft+Event/298515/157-GQE-382
END:VEVENT
BEGIN:VTIMEZONE
TZID:Europe/Berlin
X-LIC-LOCATION:Europe/Berlin
BEGIN:DAYLIGHT
DTSTART:20210328T030000
TZOFFSETFROM:+0100
TZOFFSETTO:+0200
TZNAME:CEST
END:DAYLIGHT
END:VTIMEZONE
END:VCALENDAR