BEGIN:VCALENDAR
VERSION:2.0
PRODID:-//wp-events-plugin.com//7.2.3.1//EN
TZID:Europe/Berlin
X-WR-TIMEZONE:Europe/Berlin
BEGIN:VEVENT
UID:0-1899@sharepointsocial.de
DTSTART;TZID=Europe/Berlin:20211110T100000
DTEND;TZID=Europe/Berlin:20211110T113000
DTSTAMP:20211014T104141Z
URL:https://sharepointsocial.de/events/microsoft-sustainability-kick-off-d
 igital-und-nachhaltig-geht-doch/
SUMMARY:Microsoft Sustainability Kick-Off: Digital und nachhaltig – geht 
 doch
DESCRIPTION:Nachhaltigkeit. Kaum ein anderes Thema erhält derzeit so viel 
 Aufmerksamkeit und Zuspruch. Wäre es da nicht clever\, wenn wir jetzt gem
 einsam die Chancen von Nachhaltigkeit nutzen?\n\nWir sagen: Ja! Doch wo an
 fangen und wo aufhören? Ein entscheidender Hebel ist der digitale Wandel.
  Bis zu 58 Prozent können digitale Lösungen dazu beitragen\, um die gese
 tzlich festgelegten Klimaschutzziele zu erreichen\, sagt eine bitkom Studi
 e.\n\nAm 10. November 2021 starten wir deshalb mit dem „Microsoft Sustai
 nability Kick-Off“.\n\nZu Gast sind Expert:innen aus Forschung und Wirts
 chaft sowie Microsoft-Kunden und Partner\, die Nachhaltigkeit bereits in i
 hre Geschäftsprozesse integriert haben. Sie geben Einblicke\, wie die Ver
 einbarkeit von Ökonomie und Ökologie dank der Digitalisierung gelingen k
 ann. Und sie erklären\, warum Nachhaltigkeit künftig zur Finanzierungsko
 ndition wird und wie man zu neuen digitalen und nachhaltigen Geschäftsmod
 ellen kommt.\n\nUnd das ist erst der Anfang\, viele Veranstaltungen in den
  kommenden Monaten werden folgen: Erfahren Sie\, wie Sie die eigenen CO2-E
 missionen mithilfe digitaler Lösungen selbst messen können. Und entdecke
 n Sie die Möglichkeiten einer intelligenten Lieferkette\, um CO2 einzuspa
 ren.\n\nLassen Sie uns jetzt gemeinsam starten. Werden Sie Gast unserer er
 sten Teams Live Session zum Kick-Off-Event „Digital und nachhaltig – g
 eht doch“.
CATEGORIES:Meetup
LOCATION:https://mktoevents.com/Microsoft+Event/299795/157-GQE-382
END:VEVENT
BEGIN:VTIMEZONE
TZID:Europe/Berlin
X-LIC-LOCATION:Europe/Berlin
BEGIN:STANDARD
DTSTART:20211031T020000
TZOFFSETFROM:+0200
TZOFFSETTO:+0100
TZNAME:CET
END:STANDARD
END:VTIMEZONE
END:VCALENDAR