BEGIN:VCALENDAR
VERSION:2.0
PRODID:-//wp-events-plugin.com//7.2.3.1//EN
TZID:Europe/Berlin
X-WR-TIMEZONE:Europe/Berlin
BEGIN:VEVENT
UID:0-2376@sharepointsocial.de
DTSTART;TZID=Europe/Berlin:20240528T130000
DTEND;TZID=Europe/Berlin:20240528T190000
DTSTAMP:20240522T063247Z
URL:https://sharepointsocial.de/events/microsoft-power-platform-its-a-team
 sport/
SUMMARY:Microsoft Power Platform – it’s a teamsport!
DESCRIPTION:\n\n\n\n\nEin Campana-Schott Event\n\nExklusiver Kundenevent im
  Legends Club des Eishockey Vereins Zug.\n\nHier anmelden : https://www.ca
 mpana-schott.com/ch/de/unternehmen/media-events/detail/microsoft-power-pla
 tform-its-a-teamsport\n\n\n\n\n\n\n\n\n\n\n\n\n\n\n\nFür die volle Entfal
 tung des Potentials der Microsoft Power Plattform benötigt man ähnliche 
 Qualitäten wie in einem Teamsport wie Eishockey: Eine Strategie für den 
 langfristigen Erfolg\, eine solide Infrastruktur\, Spielregeln\, eine gele
 bte (Erfolgs-) Kultur\, Leadership und fähige Coaches und natürlich ein 
 Team mit den richtigen Fähigkeiten. Erfolg erreicht man nur gemeinsam - u
 nd so ist auch die Microsoft Power Plattform ein Teamsport!\n\nFür weiter
 e Details zu dieser Analogie in spannenden Vorträgen von Professionals au
 s Sport und Technologie\, laden wir Dich herzlichst zu unserem exklusiven 
 Kundenevent im Legends Club des Eishockey Vereins Zug ein.\n\nWir freuen u
 ns auf einen Nachmittag voller Inspirationen\, Praxisbeispiele\, Good Prac
 tices sowie gemeinsamen Austausch in einer Champions League-Location!\n\n\
 n14.00 – 14.15\nBegrüssung durch Campana &amp\; Schott\n\n14.15 – 14.
 45\nReto Kläy (EVZ):\n“How to build a new team?”\n\n14.50 – 15.20\n
 Simon Patrik (UEFA) &amp\; Alexander Kriening (Campana &amp\; Schott):\n
 “Planung der EM 2024 und der Frauen EM 2025 mit der Power Platform”\n\
 n15.20 – 15.45\nBreak\n\n15.45 – 16.15\nRene Hürlimann (Microsoft):\n
 “Eigene Innovationen nutzen - Einblicke einer Microsoft-Führungskraft
 ”\n\n16.15 – 16.45\nAdriano Perolini (Microsoft) &amp\; Pascal Brunner
  (Campana &amp\; Schott):\n“Microsoft Copilot Studio - wie man die Power
  Platform mit Copilot verbinden kann”\n\n16.45 - 17.00\nAbschluss und Q&
 amp\;A Session\n\n17.00 – 17.30\nFührung durch die Garderoben und Räum
 lichkeiten des EV Zug\n\n\n\n\n\n\n\n\n
CATEGORIES:Meetup,Partnerevent
LOCATION:Legends Club Zug\, Weststrasse 11\, Zug\, Schweiz
X-APPLE-STRUCTURED-LOCATION;VALUE=URI;X-ADDRESS=Weststrasse 11\, Zug\, Schw
 eiz;X-APPLE-RADIUS=100;X-TITLE=Legends Club Zug:geo:0,0
END:VEVENT
BEGIN:VTIMEZONE
TZID:Europe/Berlin
X-LIC-LOCATION:Europe/Berlin
BEGIN:DAYLIGHT
DTSTART:20240331T030000
TZOFFSETFROM:+0100
TZOFFSETTO:+0200
TZNAME:CEST
END:DAYLIGHT
END:VTIMEZONE
END:VCALENDAR