BEGIN:VCALENDAR
VERSION:2.0
PRODID:-//wp-events-plugin.com//7.2.3.1//EN
TZID:Europe/Berlin
X-WR-TIMEZONE:Europe/Berlin
BEGIN:VEVENT
UID:0-1770@sharepointsocial.de
DTSTART;TZID=Europe/Berlin:20210414T110000
DTEND;TZID=Europe/Berlin:20210414T120000
DTSTAMP:20210331T155042Z
URL:https://sharepointsocial.de/events/microsoft-modern-work-week-how-to-u
 nd-step-by-step-microsoft-teams-webinare-und-teams-live-events/
SUMMARY:Microsoft Modern Work Week How-To und Step-by-Step: Microsoft Teams
  Webinare und Teams Live Events
DESCRIPTION:\n\nStarten Sie Ihre nächste Veranstaltung mit Microsoft 365. 
 Egal ob Webinar\, Online oder hybrides Event: mit Teams Webinaren und Tea
 ms Liveereignissen lassen sich solche Veranstaltungen schnell\, sicher un
 d kostengünstig in die Praxis umsetzen.\n\nIn dieser Session zeigen wir I
 hnen Schritt für Schritt\, wie Sie Ihr nächstes Webinar oder Online-Even
 t mit Teams Webinare und Teams Liveereginisse planen\, organisieren und d
 urchführen können.\n\n\nHinweis: Microsoft Teams bietet ein umfassendes\
 , interaktives Erlebnis\, das am besten mit der Teams-App funktioniert. Wi
 r empfehlen Ihnen\, die App herunterzuladen\, da nicht alle Browser unters
 tützt werden. Wenn Sie an dieser Veranstaltung teilnehmen\, sind Ihr Name
 \, Ihre E-Mail-Adresse und/oder Ihre Telefonnummer möglicherweise für an
 dere Sitzungsteilnehmer in der Teilnehmerliste einsehbar. Durch die Teilna
 hme an dieser Veranstaltung stimmen Sie dem zu.\n\n\n\n\n\nMichael Greth\n
 Microsoft MVP Office Apps &amp\; Services - SharePoint\n\n\n\n&nbsp\;\n\n\
 n\n\n\n\n\n\n\n
CATEGORIES:Webcast
LOCATION:https://mktoevents.com/Microsoft+Event/254478/157-GQE-382?
END:VEVENT
BEGIN:VTIMEZONE
TZID:Europe/Berlin
X-LIC-LOCATION:Europe/Berlin
BEGIN:DAYLIGHT
DTSTART:20210328T030000
TZOFFSETFROM:+0100
TZOFFSETTO:+0200
TZNAME:CEST
END:DAYLIGHT
END:VTIMEZONE
END:VCALENDAR