BEGIN:VCALENDAR
VERSION:2.0
PRODID:-//wp-events-plugin.com//7.2.3.1//EN
TZID:Europe/Berlin
X-WR-TIMEZONE:Europe/Berlin
BEGIN:VEVENT
UID:0-1904@sharepointsocial.de
DTSTART;TZID=Europe/Berlin:20211109T183000
DTEND;TZID=Europe/Berlin:20211109T213000
DTSTAMP:20211019T173550Z
URL:https://sharepointsocial.de/events/microsoft-ignite-azure-recap-2021-m
 eets-community-meetups/
SUMMARY:Microsoft Ignite Azure Recap 2021 meets Community Meetups
DESCRIPTION:\n\n\n\nHybrid Event | Teams und vor Ort in Bonn\n\nDas Event w
 ird als Hybrid Event Variante stattfinden. Wir können uns in den Räumlic
 hkeiten vom Haus Müllestumpe treffen.\nVor Ort gelten die 2G Regeln (Zuga
 ng nur für geimpfte oder genesene Personen). Ein Nachweis ist erforderlic
 h.\nBitte gebt bei der Anmeldung an\, ob ihr vor Ort teilnehmen möchtet\,
  damit kommt ihr auf die Gästeliste.\n\nSeit 2018 veranstalten wir regelm
 äßig das Microsoft Azure Ignite Recap. Dabei legen wir Wert darauf\, meh
 rere Meetups und Sprecher beteiligen\, um so verschieden Perspektiven und 
 Schwerpunkte abdecken zu können.\nDie diesjährige Microsoft Ignite finde
 t vom 02.11. - 04.11.2021 rein virtuell und kostenlos statt. (https://myig
 nite.microsoft.com/home)\n\nWir freuen uns auch in diesem Jahr wieder ein 
 Microsoft Azure Ignite Recap gemeinsam mit dem Azure Meetup Thüringen und
  der AVD User Group veranstalten zu können. In unserem Event werden wir e
 uch kurz und knackig über Neue Entwicklungen\, Features und Updates infor
 mieren. Garniert mit zahlreichen Demos und unserer eigenen Einschätzungen
  in wieweit manches schon für Produktive Umgebungen geeignet ist.\n\nAuch
  in diesem Jahr werden wir wieder verschiedene Sprecher zu den verschieden
 en Themen dabei haben.\n\nAlle Sessions werden via Microsoft Teams übertr
 agen und so für alle Teilnehmer zur Verfügung stehen\, unabhängig davon
  ob Sie Live oder Virtuell teilnehmen.\n\nSprecher:\nThomas Naunheim - Azu
 re AD News\nGregor Reimling - Azure IaaS News\nEric Berg - Azure IaaS und 
 PaaS News\nMarcel Meurer - AVD und Automatisierungs News\n\nFür Bonn werd
 en wir euch in den nächsten Tage noch mitteilen\, ob und wo wir eine Prä
 senz Veranstaltung stattfinden lassen. Meldet euch bitte schon direkt an\,
  damit wir über die Zusatzfrage ermitteln können\, wie viele Teilnehmer 
 teilnehmen würden.\nNatürlich werden wir die aktuelle Lage im Blich beha
 lten und vor Ort wird es eine 3G Regel geben\, wobei der Selbsttest nicht 
 älter als 6h sein darf.\n\nAktuell planen wir die Session in Deutsch zu h
 alten. Bei Bedarf können wir auf English switchen. Fragen sind in beiden 
 Sprachen möglich.\n\nEnglish below:\nCurrently we plan to hold the sessio
 n in German. If needed\, we can switch to English. Questions are possible 
 in both languages.\n\nSince 2018\, we have been hosting the Microsoft Azur
 e Ignite Recap on a regular basis. We make it a point to include multiple 
 meetups and speakers to cover different perspectives and focus areas.\nThi
 s year's Microsoft Ignite will take place from Nov. 02 - Nov. 04\, 2021\, 
 purely virtually and free of charge. (https://myignite.microsoft.com/home)
 \n\nWe are happy to host a Microsoft Azure Ignite Recap together with the 
 Azure Meetup Thüringen and the AVD User Group this year. In our event we 
 will inform you short and crisp about new developments\, features and upda
 tes. Garnished with numerous demos and our own assessments of how far some
  is already suitable for productive environments.\n\nAlso this year we wil
 l have different speakers for the different topics.\nSpeaker:\nThomas Naun
 heim - Azure AD News\nGregor Reimling - Azure IaaS News\nEric Berg - Azure
  IaaS und PaaS News\nMarcel Meurer - AVD und Automatisierungs News\n\nAll 
 sessions will be broadcast via Microsoft Teams and thus available to all p
 articipants\, regardless of whether you attend live or virtually.\n\nFor B
 onn we will inform you in the next days if and where we will have a presen
 ce event. Please register already directly\, so that we can determine how 
 many participants would take part via the additional question.\nOf course 
 we will keep an eye on the current situation and there will be a 3G rule o
 n site\, where the self-test must not be older than 6h.\n\n\n\n\nCOVID-19-
 Sicherheitsmaßnahmen\n\n\n\n\nMasken erforderlich\nMeetup Link: https://w
 ww.meetup.com/de-DE/Azure-Bonn-Meetup/events/281336350\n\n\n\n\n\n\nEvent 
 findet in einem Gebäude statt\n\n\n\nDas Event wird als Hybrid Event Vari
 ante stattfinden. Wir können uns in den Räumlichkeiten vom Haus Müllest
 umpe treffen.\nVor Ort gelten die 2G Regeln (Zugang nur für geimpfte oder
  genesene Personen). Ein Nachweis ist erforderlich.\nBitte gebt bei der An
 meldung an\, ob ihr vor Ort teilnehmen möchtet\, damit kommt ihr auf die 
 Gästeliste.\nDer Event-Veranstalter hat Sicherheitsmaßnahmen festgelegt.
  Meetup ist nicht für die Einhaltung der Sicherheitsmaßnahmen verantwort
 lich.\n\n
CATEGORIES:Meetup
LOCATION:Haus Müllestumpe\, An der Rheindorfer Burg 22\, Bonn\, Deutschlan
 d
GEO:50.7571731;7.081180899999936
X-APPLE-STRUCTURED-LOCATION;VALUE=URI;X-ADDRESS=An der Rheindorfer Burg 22\
 , Bonn\, Deutschland;X-APPLE-RADIUS=100;X-TITLE=Haus Müllestumpe:geo:50.7
 571731,7.081180899999936
END:VEVENT
BEGIN:VTIMEZONE
TZID:Europe/Berlin
X-LIC-LOCATION:Europe/Berlin
BEGIN:STANDARD
DTSTART:20211031T020000
TZOFFSETFROM:+0200
TZOFFSETTO:+0100
TZNAME:CET
END:STANDARD
END:VTIMEZONE
END:VCALENDAR