BEGIN:VCALENDAR
VERSION:2.0
PRODID:-//wp-events-plugin.com//7.2.3.1//EN
TZID:Europe/Berlin
X-WR-TIMEZONE:Europe/Berlin
BEGIN:VEVENT
UID:0-1912@sharepointsocial.de
DTSTART;TZID=Europe/Berlin:20211115T101500
DTEND;TZID=Europe/Berlin:20211115T110000
DTSTAMP:20211027T091155Z
URL:https://sharepointsocial.de/events/microsoft-hybrid-work-week-so-gelin
 gt-die-einfuehrung-von-microsoft-viva/
SUMMARY:Microsoft Hybrid Work Week So gelingt die Einführung von Microsoft
  Viva
DESCRIPTION:Mit Microsoft Viva hat Microsoft Anfang Februar die erste Emplo
 yee Experience Platform angekündigt\, die Unternehmen unterstützt\, die 
 Arbeitsbedingungen in einer hybriden Arbeitswelt für ihre Mitarbeitenden 
 zu verbessern.\n\nDiese Session bildet den Auftakt zur Employee Experience
  Platform Microsoft Viva während der Hybrid Work Week. Folgende Inhalte e
 rwarten Sie:\n\n 	Überblick über die Verfügbarkeit der Viva Lösungen\n
  	Technische Voraussetzungen für eine erfolgreiche Einführung von Micros
 oft Viva\n 	Kulturelle und organisatorische Aspekte\n 	Microsoft Viva Leit
 faden (nicht nur) für Betriebsräte präsentiert von Konverion UG\n 	Micr
 osoft Viva Digital Toolkit mit Musterbetriebsvereinbarung und Rechtsberatu
 ng präsentiert von der Wirtschaftskanzlei Pinsent Masons\n 	Ausblick auf 
 die Viva Workshops im Laufe der Hybrid Work Week\n\nDiese Session richtet 
 sich an Entscheider aus Unternehmensleitung\, Personalabteilung\, interner
  Kommunikation und IT\, die sich aktuell mit der Einführung von Microsoft
  Viva beschäftigen.\n\nWir freuen uns auf Ihre Teilnahme!\n\n\nSprecher*i
 nnen\n\n\n\n\nDr. Peter Christ\nRechtsanwalt\, Fachanwalt für Arbeitsrech
 t\nPinsent Masons\n\n\n\n&nbsp\;\n\n\n\n\n\n\n\nDr. Viktoria Lehner\, LL.M
 .\nRechtsanwältin\, Fachanwältin für Informationstechnologierecht CIPP/
 E\nPinsent Masons\n\n\n\n&nbsp\;\n\n\n\n\n\n\n\nJörg Schanko\nGeschäftsf
 ührer\nKonverion UG\n\n\n\n&nbsp\;\n\n\n\n\n\n\n\nNicole Höllebrand\nPro
 duktmanagerin Microsoft Viva\nMicrosoft Deutschland GmbH\n\n\n
CATEGORIES:Meetup,Webcast
LOCATION:https://mktoevents.com/Microsoft+Event/302260/157-GQE-382
END:VEVENT
BEGIN:VTIMEZONE
TZID:Europe/Berlin
X-LIC-LOCATION:Europe/Berlin
BEGIN:STANDARD
DTSTART:20211031T020000
TZOFFSETFROM:+0200
TZOFFSETTO:+0100
TZNAME:CET
END:STANDARD
END:VTIMEZONE
END:VCALENDAR