BEGIN:VCALENDAR
VERSION:2.0
PRODID:-//wp-events-plugin.com//7.2.3.1//EN
TZID:Europe/Berlin
X-WR-TIMEZONE:Europe/Berlin
BEGIN:VEVENT
UID:0-1914@sharepointsocial.de
DTSTART;TZID=Europe/Berlin:20211116T083000
DTEND;TZID=Europe/Berlin:20211116T090000
DTSTAMP:20211027T091439Z
URL:https://sharepointsocial.de/events/microsoft-hybrid-work-week-microsof
 t-keynote-die-4-saeulen-des-hybriden-arbeitens/
SUMMARY:Microsoft Hybrid Work Week  Microsoft-Keynote: Die 4 Säulen des hy
 briden Arbeitens
DESCRIPTION:Unser gegenwärtiges Handeln ist dadurch geprägt\, die Chancen
 \, die sich langfristig durch hybride Arbeitsmodelle auftun\, zu erkennen 
 und auch wahrzunehmen.\n\nWir würden Sie gerne mitnehmen und die Erkenntn
 isse mit Ihnen teilen\, die wir in den letzten Monaten dazugewonnen haben.
  Zuvor beschäftigen wir uns mit den vier essenziellen Fragen:\n\n 	Wie de
 finiert sich unser Arbeitsplatz – jetzt sowie zukünftig?\n 	Wodurch kan
 n die Unternehmenskultur gezielt verändert bzw. gefördert werden und wie
  verstehen wir Sicherheit und Compliance dabei\n 	Welche Kompetenzen haben
  unsere Mitarbeitenden und wie können wir diese noch gezielter fördern?\
 n 	Wie können wir in Zukunft noch inklusiver arbeiten\, um mehr Menschen 
 zu erreichen?\n\nDie Erwartungen\, die Mitarbeitende an Unternehmen stelle
 n\, haben sich grundlegend verändert. Im „New Normal“ muss aber nicht
  alles neu sein – einige Umstellungen bewirken Großes. Sehen Sie sich d
 azu das Microsoft-Arbeitsmodell an.\n\nDieses Webinar richtet sich an Pers
 onen\, die in ihrer Organisation für die Umsetzung hybrider Arbeitswelten
  verantwortlich sind.\n\n\nHinweis: Microsoft Teams bietet ein umfassendes
 \, interaktives Erlebnis\, das am besten mit der Teams-App funktioniert. W
 ir empfehlen Ihnen\, die App herunterzuladen\, da nicht alle Browser unter
 stützt werden. Wenn Sie an dieser Veranstaltung teilnehmen\, sind Ihr Nam
 e\, Ihre E-Mail-Adresse und/oder Ihre Telefonnummer möglicherweise für a
 ndere Sitzungsteilnehmer(innen) in der Teilnehmerliste einsehbar. Durch di
 e Teilnahme an dieser Veranstaltung stimmen Sie dem zu.\n\n\nSprecher*inne
 n\n\n\n\n\nCeline Garbi Joergens\nHybrid Secured Work Business Lead\nMicro
 soft Deutschland GmbH\n\n\n\n&nbsp\;\n\n\n\n\n\n\n\nFanny Dupont\nCustomer
  Experience Manager\nMicrosoft Deutschland GmbH\n\n\n
CATEGORIES:Meetup,Webcast
LOCATION:https://mktoevents.com/Microsoft+Event/303107/157-GQE-382
END:VEVENT
BEGIN:VTIMEZONE
TZID:Europe/Berlin
X-LIC-LOCATION:Europe/Berlin
BEGIN:STANDARD
DTSTART:20211031T020000
TZOFFSETFROM:+0200
TZOFFSETTO:+0100
TZNAME:CET
END:STANDARD
END:VTIMEZONE
END:VCALENDAR