BEGIN:VCALENDAR
VERSION:2.0
PRODID:-//wp-events-plugin.com//7.2.3.1//EN
TZID:Europe/Berlin
X-WR-TIMEZONE:Europe/Berlin
BEGIN:VEVENT
UID:0-1915@sharepointsocial.de
DTSTART;TZID=Europe/Berlin:20211116T090000
DTEND;TZID=Europe/Berlin:20211116T094500
DTSTAMP:20211027T091557Z
URL:https://sharepointsocial.de/events/microsoft-hybrid-work-week-in-4-sch
 ritten-zu-einer-endpoint-strategie-fuer-das-hybride-arbeiten/
SUMMARY:Microsoft Hybrid Work Week  In 4 Schritten zu einer Endpoint Strate
 gie für das hybride Arbeiten
DESCRIPTION:Warum ist Hybrid Work eine Frage der Endpoint Strategie? Über 
 40% der Mitarbeitenden sehen sich für ihren Heimarbeitsplatz nicht richti
 g ausgestattet. Mehr als 50% der Unternehmen überlegen auf die neuen Hera
 usforderungen auch durch Anpassungen der Büroräume zu reagieren. Noch ni
 e war eine Endpoint Strategie so wichtig wie heute. Verstehen Sie\, wie Si
 e Ihre Mitarbeitenden unterstützen können kreativ und produktiv zu sein
  und gleichzeitig Talente im Unternehmen zu halten und potenzielle Burnout
 s zu vermeiden. Befähigen Sie Ihre Mitarbeitenden mit den richtigen Gerä
 ten mehr zu erreichen.\n\nHinweis: Microsoft Teams bietet ein umfassendes\
 , interaktives Erlebnis\, das am besten mit der Teams-App funktioniert. Wi
 r empfehlen Ihnen\, die App herunterzuladen\, da nicht alle Browser unters
 tützt werden. Wenn Sie an dieser Veranstaltung teilnehmen\, sind Ihr Name
 \, Ihre E-Mail-Adresse und/oder Ihre Telefonnummer möglicherweise für an
 dere Sitzungsteilnehmer(innen) in der Teilnehmerliste einsehbar. Durch die
  Teilnahme an dieser Veranstaltung stimmen Sie dem zu.\n\n\nSprecher*innen
 \n\n\n\n\nLea Waldmann\nProduct Marketing Manager Surface Portfolio\,\nMic
 rosoft Deutschland GmbH\n\n\n\n&nbsp\;\n\n\n\n\n\n\n\nMichael Kaiser Molin
 a\nProduct Marketing Manager Surface Portfolio\,\nMicrosoft Deutschland Gm
 bH\n\n\n\n&nbsp\;\n\n\n\n\n\n\n\nRobin Wittland\nDirector Business Group S
 urface\,\nMicrosoft Deutschland GmbH\n\n\n
CATEGORIES:Meetup,Webcast
LOCATION:https://mktoevents.com/Microsoft+Event/304521/157-GQE-382
END:VEVENT
BEGIN:VTIMEZONE
TZID:Europe/Berlin
X-LIC-LOCATION:Europe/Berlin
BEGIN:STANDARD
DTSTART:20211031T020000
TZOFFSETFROM:+0200
TZOFFSETTO:+0100
TZNAME:CET
END:STANDARD
END:VTIMEZONE
END:VCALENDAR