BEGIN:VCALENDAR
VERSION:2.0
PRODID:-//wp-events-plugin.com//7.2.3.1//EN
TZID:Europe/Berlin
X-WR-TIMEZONE:Europe/Berlin
BEGIN:VEVENT
UID:0-1913@sharepointsocial.de
DTSTART;TZID=Europe/Berlin:20211115T130000
DTEND;TZID=Europe/Berlin:20211115T134500
DTSTAMP:20211027T091310Z
URL:https://sharepointsocial.de/events/microsoft-hybrid-work-week-hybrides
 -arbeiten-ist-das-was-fuer-mich/
SUMMARY:Microsoft Hybrid Work Week  Hybrides Arbeiten - ist das was für mi
 ch?
DESCRIPTION:Erfahrungsberichte vom Arbeiten zwischen Home Office und Büro\
 n\nDie Pandemie hat Remote-Arbeit optionslos gemacht. Die Erwartungshaltun
 g an die Flexibilität hinsichtlich des Arbeitsortes ist rasant gestiegen.
  Das Büro und das Home Office sind dabei die Fixpunkte\, aber immer öfte
 r wollen Mitarbeitende auch andere Orte zum Arbeiten nutzen.\n\nNeben dem 
 Bedarf an mehr Flexibilität ist auch der Anspruch an die Qualität von Re
 motearbeit gestiegen. Und nicht nur an die Arbeitsumgebung\, sondern auch 
 an digitale und hybride Events. Und ist nicht ein Team-Meeting auch ein kl
 eines hybrides Event?\n\nIn dieser Session berichten wir über Erfahrungen
  mit mobilem Arbeiten vor und während der Pandemie\, was sich seitdem ver
 ändert hat und wie Remote-Arbeit im hybriden Zeitalter gelingen kann.\n\n
 Wir berichten über unsere Erfahrungen der Hybrid Work Tour. Remote arbeit
 en und hybride Events remote produzieren: was hat geklappt und wo können 
 wir noch besser werden?\n\nDas ganze garnieren wir mit ein paar Tipps und 
 Features\, die hybride Meetings und Events erfolgreicher machen können.\n
 \nDiese Veranstaltung richtet sich an Mitarbeitende\, die sich mehr Flexib
 ilität zum Arbeiten zwischen Büro und Homeoffice wünschen\, und Entsche
 ider*innen\, die das ermöglichen wollen.\n\n\nSprecher*innen\n\n\n\n\nAnd
 reas Hennig\nMarketing Manager Modern Work\nMicrosoft Deutschland GmbH\n\n
 \n\n&nbsp\;\n\n\n\n\n\n\n\nSascha Ackermann\nExperience Manager\nMicrosoft
  Deutschland GmbH\n\n\n
CATEGORIES:Meetup,Webcast
LOCATION:https://mktoevents.com/Microsoft+Event/304251/157-GQE-382
END:VEVENT
BEGIN:VTIMEZONE
TZID:Europe/Berlin
X-LIC-LOCATION:Europe/Berlin
BEGIN:STANDARD
DTSTART:20211031T020000
TZOFFSETFROM:+0200
TZOFFSETTO:+0100
TZNAME:CET
END:STANDARD
END:VTIMEZONE
END:VCALENDAR