BEGIN:VCALENDAR
VERSION:2.0
PRODID:-//wp-events-plugin.com//7.2.3.1//EN
TZID:Europe/Berlin
X-WR-TIMEZONE:Europe/Berlin
BEGIN:VEVENT
UID:0-1852@sharepointsocial.de
DTSTART;TZID=Europe/Berlin:20210923T150000
DTEND;TZID=Europe/Berlin:20210923T160000
DTSTAMP:20210831T114256Z
URL:https://sharepointsocial.de/events/microsoft-hybrid-work-tour-employee
 -experience-im-hybriden-zeitalter-was-koennen-unternehmen-fuer-ihre-mitarb
 eitenden-tun/
SUMMARY:Microsoft Hybrid Work Tour: Employee Experience im hybriden Zeitalt
 er – was können Unternehmen für ihre Mitarbeitenden tun?
DESCRIPTION:\n\nIn den letzten Monaten haben wir uns mit neuen Rahmenbeding
 ungen im Arbeitsleben auseinandergesetzt. Technologie versetzt uns in die 
 Lage\, mehr zu erreichen – setzt uns aber auch zunehmend unter Druck\, d
 a sich die Geschwindigkeit der Unternehmensprozesse beschleunigt. Dadurch 
 entsteht eine ganz neue Art der Zusammenarbeit. Wer keine technologische A
 usstattung wie Microsoft Teams besitzt und keine entsprechende Arbeitskult
 ur bietet\, verliert als Arbeitgeber an Attraktivität.\n\nWir zeigen Ihne
 n in unserem Webinar eine menschlichere Art digital zusammenzuarbeiten. Wi
 r sorgen mit Microsoft-Lösungen für einen Wettbewerbsvorteil bei der hyb
 riden Arbeit und beantworten dabei folgende Fragen:\n\n 	Was ist die Empl
 oyee Experience Plattform Microsoft Viva und wie kann es Mitarbeiter*innen
  unterstützen?\n 	Welche Wirkung hat hybride Arbeit auf die Mitarbeitende
 n? Was können Unternehmen tun\, um attraktiv zu bleiben?\n 	Wie können M
 itarbeiter*innen auf ihrem Weg innerhalb des Unternehmens begleitet werden
 ?\n\nDieses Webinar richtet sich an alle Entscheidungsträger\, IT-Verantw
 ortliche sowie Endanwender*innen\, die Mitarbeiter*innen und Teams darin u
 nterstützen möchten\, die Kommunikation untereinander zu fördern.\n\nWi
 r freuen uns über Ihre Teilnahme!\n\n„Employee Experience im hybriden 
 Zeitalter – was können Unternehmen für ihre Mitarbeitenden tun?“ ist
  Teil der Hybrid Work Tour-Reihe und kann sich gegebenenfalls im Datum und
  der Uhrzeit verschieben.\n\n\nHinweis: Microsoft Teams bietet ein umfasse
 ndes\, interaktives Erlebnis\, das am besten mit der Teams-App funktionier
 t. Wir empfehlen Ihnen\, die App herunterzuladen\, da nicht alle Browser u
 nterstützt werden. Wenn Sie an dieser Veranstaltung teilnehmen\, sind Ihr
  Name\, Ihre E-Mail-Adresse und/oder Ihre Telefonnummer möglicherweise f
 ür andere Sitzungsteilnehmer(innen) in der Teilnehmerliste einsehbar. Dur
 ch die Teilnahme an dieser Veranstaltung stimmen Sie dem zu.\n\n\nSprecher
 *innen\n\n\n\n\nAlexander Eggers\nGeschäftsführer\, Adoption Specialist\
 ,\nepc GmbH\n\nLinkedin\n\n\n\n&nbsp\;\n\n\n\n\n\n\n\nRagnar Heil\nMicroso
 ft MVP\, Channel Account Manager EMEA Central\nQuest Software GmbH\n\nLink
 edin\n\n\n\n&nbsp\;\n\n\n\n\n\n\n\nAndreas Hennig\nMarketing Manager Moder
 n Work\,\nMicrosoft Deutschland GmbH\n\n\n\n&nbsp\;\n\n\n\n\n\n\n\n\n\n
CATEGORIES:Meetup,Webcast
LOCATION:https://mktoevents.com/Microsoft+Event/293258/157-GQE-382?
END:VEVENT
BEGIN:VTIMEZONE
TZID:Europe/Berlin
X-LIC-LOCATION:Europe/Berlin
BEGIN:DAYLIGHT
DTSTART:20210328T030000
TZOFFSETFROM:+0100
TZOFFSETTO:+0200
TZNAME:CEST
END:DAYLIGHT
END:VTIMEZONE
END:VCALENDAR