BEGIN:VCALENDAR
VERSION:2.0
PRODID:-//wp-events-plugin.com//7.2.3.1//EN
TZID:Europe/Berlin
X-WR-TIMEZONE:Europe/Berlin
BEGIN:VEVENT
UID:6-83@sharepointsocial.de
DTSTART;TZID=Europe/Berlin:20160223T090000
DTEND;TZID=Europe/Berlin:20160224T160000
DTSTAMP:20160126T181931Z
URL:https://sharepointsocial.de/events/microsoft-explained/
SUMMARY:Microsoft EXPLAINED
DESCRIPTION:\n\nEine Microsoft Veranstaltung\n\nKann ich der Cloud vertraue
 n? Wie kann das Internet der Dinge für uns alle nutzbar werden? Und warum
  brauche ich eigentlich schon heute keinen Schreibtisch mehr? Die Veransta
 ltung Microsoft EXPLAINED in Berlin vom 23. bis 24. Februar 2016 beleuchte
 t und hinterfragt die wichtigsten Technologietrends unserer Zeit in prägn
 anten Kurzvorträgen.\nThemen der Konferenz\nDie Konferenz besteht aus sec
 hs Themenbereichen mit über 20 Rednern\, u.a. erwarten Sie Vorträge von 
 Peter Schaar\, Vorsitzender der Europäischen Akademie für Informationsfr
 eiheit und Datenschutz (EAID)\, Bettina Sonnemann\, Head of Legal der inte
 rnen Rechtsberatung von Microsoft Deutschland und Fabian Hemmert\, Designf
 orscher am Research Lab der Berliner UdK. Eine Liste aller Sprecher finden
  Sie auf der Website der Microsoft EXPLAINED.\nTag 1\nAm ersten Konferenzt
 ag liegt der Fokus auf Chancen und Herausforderungen der digitalen Transfo
 rmation von Wirtschaft\, Verwaltung und Gesellschaft. Welche Auswirkungen 
 hat die Digitalisierung auf politische und rechtliche Rahmenbedingungen? M
 üssen wir einen neuen Umgang mit Daten erlernen? Welche Chancen stecken i
 m Internet der Dinge für unsere Automobilindustrie oder für die Modernis
 ierung der öffentlichen Verwaltung in Deutschland?\nTag 2\nAn Tag zwei st
 ehen Produktinnovationen und Technologievisionen im Vordergrund. Zahlreich
 e Experten geben einen Einblick in Forschung sowie Entwicklung bei Microso
 ft und stellen die Technologiestrategie des Unternehmens vor. Zudem wird d
 ie Frage beantwortet\, welchen Einfluss Gaming zukünftig auf Bildung und 
 Forschung haben kann.\nAnmeldung\nDie Anmeldung für die Microsoft EXPLAIN
 ED ist kostenlos. Sie haben die Möglichkeit\, sich für einzelne Themenbe
 reiche oder auch ganztägig anzumelden.\nKalender\n#_EVENTICALLINK\n\n
CATEGORIES:Konferenz
LOCATION:Microsoft Digital Eatery\, Unter den Linden 17\, Berlin\, 10117\, 
 Deutschland
GEO:52.51659360000001;13.39052659999993
X-APPLE-STRUCTURED-LOCATION;VALUE=URI;X-ADDRESS=Unter den Linden 17\, Berli
 n\, 10117\, Deutschland;X-APPLE-RADIUS=100;X-TITLE=Microsoft Digital Eater
 y:geo:52.51659360000001,13.39052659999993
END:VEVENT
BEGIN:VTIMEZONE
TZID:Europe/Berlin
X-LIC-LOCATION:Europe/Berlin
BEGIN:STANDARD
DTSTART:20151025T020000
TZOFFSETFROM:+0200
TZOFFSETTO:+0100
TZNAME:CET
END:STANDARD
END:VTIMEZONE
END:VCALENDAR