BEGIN:VCALENDAR
VERSION:2.0
PRODID:-//wp-events-plugin.com//7.2.3.1//EN
TZID:Europe/Berlin
X-WR-TIMEZONE:Europe/Berlin
BEGIN:VEVENT
UID:0-1512@sharepointsocial.de
DTSTART;TZID=Europe/Berlin:20200616T090000
DTEND;TZID=Europe/Berlin:20200616T160000
DTSTAMP:20200529T085819Z
URL:https://sharepointsocial.de/events/microsoft-european-virtual-open-sou
 rce-summit/
SUMMARY:Microsoft European Virtual Open Source Summit
DESCRIPTION:Microsoft European Virtual Open Source Summit by the Microsoft
  Open Source team is a unique digital event\, designed to celebrate commun
 ities\, entrepreneurs and developers coming together to build the future o
 f open source technologies in the cloud.\n\nExpert guest speakers will be 
 deep diving into a wide variety of topics\, from chaos engineering and bui
 lding serverless architecture to multicloud app development.\n\nThe day wi
 ll divide into four parallel tracks\, each with 7 sessions\, designed to p
 rovide the best learning experience for IT Pros\, Developers and Data Sci
 entists – giving you knowledge and understanding of the most trending a
 nd innovative open platforms in the cloud.\n\nFIND THE FULL AGENDA HERE\
 n\nWhat to expect\n\n 	2 Keynotes from GitHub and Red Hat\n 	4 Tracks with
  7 sessions (check the agenda)\n 	Ask the Experts Live Q&amp\;A\n 	30 Sess
 ions from the most engaging Open Source speakers\n 	Digital Expo Area with
  Digital booths of our partners\n\nKeynote Session 1: Open Source Built t
 he Modern World by Nat Friedman\, CEO\, GitHub\n\nKeynote Session 2: Busi
 ness Benefits of Open Source Collaboration Between Red Hat and Microsoft b
 y Stefanie Chiras\, SVP &amp\; General Manager\, Red Hat Enterprise Linux 
 Business Unit\n\nTrack 1: Infra &amp\; Ops – Infra related topics aroun
 d Linux\, Hybrid Management\, Chaos Engineering and more.\n\nTrack 2: Inno
 vation – Cloud native track with diverse line-up of speakers and subjec
 ts.\n\nTrack 3: Data &amp\; AI – Learn all there is to know about Open 
 Source and Data. Strong line-up also from partners.\n\nTrack 4: Developers
  - 7 amazing sessions ensuring the developer audience get what they want!
 \n\nThe Partner Lounge\nThis is a virtual space where you can connect with
  Microsoft Partners and learn about the technologies they are innovating\,
  as well as the companies enabling it.\n\n\n\nWho should attend?\n\nWhethe
 r you are new to Microsoft or not\, this event has been set up for a broad
  audience. Learn new exciting skills and get new insights from the extensi
 ve list of sessions from Microsoft Open Source team and the Open Source pa
 rtners.\n\nBelow a selection of the speakers. Find the full agenda here
CATEGORIES:Konferenz
END:VEVENT
BEGIN:VTIMEZONE
TZID:Europe/Berlin
X-LIC-LOCATION:Europe/Berlin
BEGIN:DAYLIGHT
DTSTART:20200329T030000
TZOFFSETFROM:+0100
TZOFFSETTO:+0200
TZNAME:CEST
END:DAYLIGHT
END:VTIMEZONE
END:VCALENDAR