BEGIN:VCALENDAR
VERSION:2.0
PRODID:-//wp-events-plugin.com//7.2.3.1//EN
TZID:Europe/Berlin
X-WR-TIMEZONE:Europe/Berlin
BEGIN:VEVENT
UID:6-550@sharepointsocial.de
DTSTART;TZID=Europe/Berlin:20170919T100000
DTEND;TZID=Europe/Berlin:20170919T123000
DTSTAMP:20170908T090651Z
URL:https://sharepointsocial.de/events/microsoft-dsgvo-virtuelle-konferenz
 /
SUMMARY:Microsoft DSGVO Virtuelle Konferenz
DESCRIPTION:Die neue EU-Datenschutz-Grundverordnung\, kurz DSGVO\, wirft ih
 re Schatten voraus: Ab dem 25. Mai 2018 muss jede Organisation\, die Waren
  und Dienstleistungen für Menschen in der EU anbietet oder Daten im Zusam
 menhang mit Personen in der EU erfasst und analysiert\, einen neuen\, geme
 inschaftlichen Datenschutzstandard einhalten.\nSind Sie bereits auf die ne
 uen Vorgaben vorbereitet? Welche Maßnahmen müssen Sie etablieren\, um di
 e Compliance mit der DSGVO zu sichern? Wie wirkt sich die Verordnung auf I
 hre Strategie zur IT-Sicherheit aus? Und welche Technologien können Sie a
 uf Ihrem Weg zur DSGVO-Compliance unterstützen?\nDas Ziel der EU-Datensc
 hutz-Grundverordnung ist ein nachhaltiger Schutz der Privatsphäre für P
 ersonen in der EU – ein Ziel\, das auch bei Microsoft seit jeher höchst
 e Priorität hat und durch entsprechende Datenschutzmaßnahmen abgebildet 
 wird. Deshalb möchten Ihnen unsere Experten in einer halbtägigen\, virtu
 ellen Konferenz einen Überblick über die Aktivitäten und Initiativen im
  Zusammenhang mit der DSGVO geben:\n\nAgenda\n\n 	10:00 Uhr - Einführung
 \n 	10:15 Uhr - Die Bedeutung der EU-Datenschutz-Grundverordnung\n 	11:15
  Uhr - Die Bedeutung der EU-Datenschutz-Grundverordnung\n 	12:15 Uhr - D
 SGVO: Experten-Talk\n\nSprecher\n\n 	Milad Aslaner\, Senior Product Manage
 r – Cyber Security\, Microsoft Deutschland GmbH\n 	Ebru Baumann\, Partne
 r Technology Strategist – Security &amp\; Compliance\, Microsoft Deutsch
 land GmbH\n 	Manfred Sommerer\, Technology Solution Professional – Secur
 ity &amp\; Compliance\, Microsoft Deutschland GmbH\n 	Florian Tannen\, Rec
 htsanwalt\, Baker McKenzie\, München\n\nAnmeldung\nKostenlose Anmeldung 
 über die Eventwebsite
ATTACH;FMTTYPE=image/jpeg:https://sharepointsocial.de/files/2017/06/Securi
 ty.png
CATEGORIES:Webcast
END:VEVENT
BEGIN:VTIMEZONE
TZID:Europe/Berlin
X-LIC-LOCATION:Europe/Berlin
BEGIN:DAYLIGHT
DTSTART:20170326T030000
TZOFFSETFROM:+0100
TZOFFSETTO:+0200
TZNAME:CEST
END:DAYLIGHT
END:VTIMEZONE
END:VCALENDAR