BEGIN:VCALENDAR
VERSION:2.0
PRODID:-//wp-events-plugin.com//7.2.3.1//EN
TZID:Europe/Berlin
X-WR-TIMEZONE:Europe/Berlin
BEGIN:VEVENT
UID:0-1718@sharepointsocial.de
DTSTART;TZID=Europe/Berlin:20210225T170000
DTEND;TZID=Europe/Berlin:20210225T180000
DTSTAMP:20210205T083826Z
URL:https://sharepointsocial.de/events/microsoft-digilounge-der-arbeitsmar
 kt-in-zeiten-der-pandemie/
SUMMARY:Microsoft Digilounge: Der Arbeitsmarkt in Zeiten der Pandemie
DESCRIPTION:Die Covid-19-Pandemie hat im vergangenen Jahr viele bereits bes
 tehende Trends auf dem Arbeitsmarkt weiter beschleunigt. So haben digitale
  Geschäftsmodelle\, die vermehrte Arbeit von Zuhause und die Automatisier
 ung von Tätigkeiten verstärkt an Bedeutung gewonnen. Gleichzeitig besteh
 t durch die beschleunigte Transformation des Arbeitsmarktes die Gefahr\, d
 ass sich wirtschaftliche und gesellschaftliche Ungleichheiten verfestigen 
 oder gar neue entstehen.\nWie die Pandemie den deutschen Arbeitsmarkt nach
 haltig verändert\, möchten wir in der achten Ausgabe unserer Veranstaltu
 ngsreihe Microsoft Berlin - DigiLounge beleuchten. Was ist das „new no
 rmal“ des Arbeitsmarkts und welche Trends aus der Pandemie werden sich i
 n der Zukunft weiter verfestigen? Welche gesellschaftlichen Gruppen und Br
 anchen sind von den Umwälzungen besonders betroffen? Welche Maßnahmen so
 llten Politik und Wirtschaft im Bereich Qualifizierung und Weiterbildung e
 rgreifen\, um den Wandel des Arbeitsmarkts zukunftsorientiert zu gestalten
 ? Diese und weitere Fragen wollen wir im Rahmen der Microsoft Berlin - Dig
 iLounge gemeinsam mit Ihnen diskutieren.\nDazu freuen wir uns auf ein span
 nendes Gespräch mit: Dr. Vesselina Ratcheva\, Frontier Insight Lead (Wor
 ld Economic Forum)\, Johannes Vogel\, MdB\, Arbeitsmarktpolitischer Sprech
 er (FDP-Bundestagsfraktion)\, Kristin Keveloh\, Senior Manager Public Poli
 cy und Economic Graph (LinkedIn) und Josef Sühr\, Moderator und Corporate
  Affairs Manager (Microsoft Berlin).\nGerne können Sie sich über einen C
 hat live an der Diskussion beteiligen. Schicken Sie uns bereits jetzt Ihre
  Fragen an die Sprecher*innen: digiloungeberlin@microsoft.com. Die Diskus
 sion findet auf Englisch statt.\nWir freuen uns darauf\, Sie bei unserer n
 ächsten Microsoft Berlin - DigiLounge begrüßen zu dürfen!\nVERANSTAL
 TUNGSLINK:\nAus aktuellem Anlass findet die Veranstaltung digital statt un
 d wird über Microsoft Teams Live durchgeführt. Sie können über aka.ms
 /digilounge am Event teilnehmen. Das Microsoft Teams Live Event wird am V
 eranstaltungstag ab 16.45 Uhr aktiviert.
CATEGORIES:Meetup
LOCATION:https://www.microsoft.com/de-de/berlin/veranstaltungen/digilounge.
 aspx
END:VEVENT
BEGIN:VTIMEZONE
TZID:Europe/Berlin
X-LIC-LOCATION:Europe/Berlin
BEGIN:STANDARD
DTSTART:20201025T020000
TZOFFSETFROM:+0200
TZOFFSETTO:+0100
TZNAME:CET
END:STANDARD
END:VTIMEZONE
END:VCALENDAR