BEGIN:VCALENDAR
VERSION:2.0
PRODID:-//wp-events-plugin.com//7.2.3.1//EN
TZID:Europe/Berlin
X-WR-TIMEZONE:Europe/Berlin
BEGIN:VEVENT
UID:0-1896@sharepointsocial.de
DTSTART;TZID=Europe/Berlin:20211021T190000
DTEND;TZID=Europe/Berlin:20211021T210000
DTSTAMP:20211014T103535Z
URL:https://sharepointsocial.de/events/microsoft-data-ai-berlin-data-model
 ing-ops-the-modern-approach-purview-data-governance/
SUMMARY:Microsoft Data & AI Berlin: *Data Modeling / Ops: the Modern Approa
 ch* & *Purview Data Governance*
DESCRIPTION:/**************************************************************
 ****************\nPASS Berlin Chapter / Berlin Data &amp\; AI event in Eng
 lish language!\n**********************************************************
 ********************/\n\nHi Data Monsters\,\n\nwe are looking forward to t
 wo hot sessions in our October meeting.\nThe meeting will be a virtual mee
 ting\, you can join here: https://teams.microsoft.com/l/meetup-join/19%3a
 meeting_M2Y0ZTNhNTEtZmUwMy00MjBjLWJmMTMtZWRiM2VlNDA1ZTU5%40thread.v2/0?con
 text=%7b%22Tid%22%3a%2240dee412-4d0f-42cf-8aad-aa22f61f4948%22%2c%22Oid%22
 %3a%22ac61de78-797a-4400-b780-225a29c4c975%22%7d\n\n----------------------
 --------------------------------------------------------------------------
 ----\n\n****** Ajay Singh ******\n\nAjay is head of product at SqlDBM. He 
 will provide the session...\n\n##### Data Modeling &amp\; DataOps: the Mod
 ern Approach #####\n\nAjay will do a talk on the rise of DataOps and prese
 nt a live demo of the online\nSQL Database Modeler SqlDBM for Synapse &amp
 \; SQL Server.\nAnd he will also to highlight the recently released integr
 ation with Azure DevOps.\n\n----------------------------------------------
 ------------------------------------------------------\n\n****** Wolfgang 
 Strasser ******\n\nWolfgang is data Consultant at Cubido Business Solution
 s\, MVP Data Platform\, author of Power BI für Dummies\, Trainer &amp\; S
 peaker. His talk is about...\n\n##### Purview Data Governance - advanced t
 opics #####\n\nBuild on our popular Purview session in February Wolfgang w
 ill dive into topics like usage of the Apache Atlas API that is available 
 in Purview.\n\n***********************************************************
 ********************\nThis will be an online "Teams" event. We'll share th
 e event-link timely before our Meetup.\nBeing aware of "screen fatique" we
  will restrict the sessions to max. 1h plus max. 15min Q&amp\;A!\n********
 ***********************************************************************\n\
 nRecordings of our Meetups are shared on the "Ceteris TV" channel on Youtu
 be: https://www.youtube.com/channel/UCMth0Qgls5sxz9T7aBlizZg\n\nGeorg(e) 
 on behalf of the Berlin SQL Pass chapter / the Berlin Data &amp\; AI Meetu
 p-team. That is: Ben\, Markus &amp\; me
CATEGORIES:Meetup
LOCATION:https://www.meetup.com/de-DE/Microsoft-Data-AI-Berlin/events/28122
 3750/
END:VEVENT
BEGIN:VTIMEZONE
TZID:Europe/Berlin
X-LIC-LOCATION:Europe/Berlin
BEGIN:DAYLIGHT
DTSTART:20210328T030000
TZOFFSETFROM:+0100
TZOFFSETTO:+0200
TZNAME:CEST
END:DAYLIGHT
END:VTIMEZONE
END:VCALENDAR