BEGIN:VCALENDAR
VERSION:2.0
PRODID:-//wp-events-plugin.com//7.2.3.1//EN
TZID:Europe/Berlin
X-WR-TIMEZONE:Europe/Berlin
BEGIN:VEVENT
UID:0-1494@sharepointsocial.de
DTSTART;TZID=Europe/Berlin:20200519T090000
DTEND;TZID=Europe/Berlin:20200520T180000
DTSTAMP:20200511T115553Z
URL:https://sharepointsocial.de/events/microsoft-build-2020-48-hour-digita
 l-experience/
SUMMARY:Microsoft Build 2020 - 48-hour digital experience
DESCRIPTION:For developers by developers\nAs developers come together to he
 lp the world solve new challenges\, sharing knowledge and staying connecte
 d is more important than ever. Join your community to learn\, connect\, an
 d code—to expand your skillset today\, and innovate for tomorrow.\n[su_b
 utton url="https://mybuild.microsoft.com/" size="5"]This Year Build is onl
 ine only and a free event - register here[/su_button]
CATEGORIES:Konferenz
END:VEVENT
BEGIN:VTIMEZONE
TZID:Europe/Berlin
X-LIC-LOCATION:Europe/Berlin
BEGIN:DAYLIGHT
DTSTART:20200329T030000
TZOFFSETFROM:+0100
TZOFFSETTO:+0200
TZNAME:CEST
END:DAYLIGHT
END:VTIMEZONE
END:VCALENDAR