BEGIN:VCALENDAR
VERSION:2.0
PRODID:-//wp-events-plugin.com//7.2.3.1//EN
TZID:Europe/Berlin
X-WR-TIMEZONE:Europe/Berlin
BEGIN:VEVENT
UID:6-52@sharepointsocial.de
DTSTART;TZID=Europe/Berlin:20150924T093000
DTEND;TZID=Europe/Berlin:20150924T150000
DTSTAMP:20150908T110231Z
URL:https://sharepointsocial.de/events/microsoft-azure-web-konferenz-cloud
 -computing-in-der-praxis/
SUMMARY:Microsoft Azure Web-Konferenz: Cloud Computing in der Praxis
DESCRIPTION:Web-Konferenz: Cloud Computing in der Praxis − Was ist drin f
 ür kleine und mittelständische Unternehmen?\n\nImmer mehr Unternehmen kl
 einer und mittlerer Größe sehen in Deutschland die Chance\, durch Cloud-
 Computing Großunternehmen technologisch auf Augenhöhe zu begegnen. Es ge
 ht nicht mehr nur darum\, mit dabei zu sein\, sondern auch tatsächlich be
 i den Marktführern mitzumischen\, indem Arbeitsprozesse und die eigene IT
  effizienter und flexibler gestaltet und betrieben werden. Neben der reine
 n Generierung von Umsatz steht aber auch ein besseres und nachhaltiges Ver
 ständnis für die eigenen Kunden und Zielgruppen im Fokus – also nicht 
 nur neue Geschäftsideen zu haben\, sondern diese auch zu realisieren. Bei
  der Frage\, welche IT-spezifische Lösung an diesem Punkt dann die Richti
 ge ist\, entscheiden sich immer mehr KMUs für den Weg in die Cloud. In in
 sgesamt vier Vorträgen wollen wir Ihnen deshalb gemeinsam mit unseren Par
 tnern zeigen\, welche Möglichkeiten sich Ihnen mit diesem Schritt bieten:
  Von der Auslagerung Ihrer IT-Infrastruktur über branchenspezifische Lös
 ungen bis hin zu fertigen Entwicklungsbaukästen für Internet of Things-S
 zenarien (IoT).\n\n[important]Kostenlose Anmeldung[/important]\n\nl
CATEGORIES:Webcast
END:VEVENT
BEGIN:VTIMEZONE
TZID:Europe/Berlin
X-LIC-LOCATION:Europe/Berlin
BEGIN:DAYLIGHT
DTSTART:20150329T030000
TZOFFSETFROM:+0100
TZOFFSETTO:+0200
TZNAME:CEST
END:DAYLIGHT
END:VTIMEZONE
END:VCALENDAR