BEGIN:VCALENDAR
VERSION:2.0
PRODID:-//wp-events-plugin.com//7.2.3.1//EN
TZID:Europe/Berlin
X-WR-TIMEZONE:Europe/Berlin
BEGIN:VEVENT
UID:0-1906@sharepointsocial.de
DTSTART;TZID=Europe/Berlin:20211207T090000
DTEND;TZID=Europe/Berlin:20211210T180000
DTSTAMP:20211022T113201Z
URL:https://sharepointsocial.de/events/microsoft-azure-solution-summit/
SUMMARY:Microsoft Azure Solution Summit
DESCRIPTION:Der Microsoft Azure Solution Summit informiert und vertieft I
 hr Wissen rund um die Microsoft Azure-Cloud und das bequem – online vom 
 eigenen Rechner aus. Wir vermitteln Grundlagen-Wissen\, die neuesten Nac
 hrichten von der Microsoft Ignite\, Developer-Know-how bis hin zu techni
 schen Trainings in einer für Sie kostenfreien „Microsoft Azure Solutio
 n“-Woche. Die Sessions richten sich an ein breit aufgestelltes vielfält
 iges Fachpublikum: Entwickler*innen sowie IT-Expert*innen und IT-Entscheid
 er*innen aller Unternehmensgrößen. Wir vermitteln Lösungen &amp\; Praxi
 s-Beispiele von Microsoft sowie unseren Partnern\, die Sie in Ihrem Untern
 ehmen direkt anwenden können.\nAn den letzten beiden Tagen des Summits bi
 eten wir Ihnen verschiedenste\, kostenfreie und deutschsprachige Traini
 ngs an\, die Ihnen kompakt und thematisch fokussiert eine exzellente Fort
 - und Weiterbildung sowie Wissensvermittlung garantieren. Wir freuen uns a
 uf den Austausch und die Diskussionen mit Ihnen in den begleitenden Chats.
 \nUnd so funktioniert es:\n\n 	Track 1-4: Melden Sie sich kostenlos pro 
 Track an und wählen Sie sich individuell zu den jeweiligen Sessions ein.
  Einige Vorträge werden am Nachmittag wiederholt\, sodass Sie sich den Ta
 g flexibel und ganz nach Ihren Interessen gestalten können.\n 	09.-10.12.
  | Trainings: Stellen Sie Ihren individuellen Fort- und Weiterbildungspla
 n zusammen. Für jedes der kostenfreien Trainings ist eine eigene Anmeldun
 g notwendig. Vielfach erhalten Sie nach Abschluss einiger Schulungen die M
 öglichkeit\, eine optional und separat im Nachgang zu planende Zertifizie
 rungsprüfung (u.a. AI-900\, AZ-900\, DP-900\, PL-900 ) im Wert von 99€
  kostenlos abzulegen. Die Anmeldung zu den Trainings ist aus logistischen 
 Gründen nur bis einschließlich 6. Dezember 2021 möglich.\n\nWir freuen 
 uns auf Ihre Teilnahme\, bitte beachten Sie unseren Microsoft-Verhaltensk
 odex für den Microsoft Azure Solution Summit!\nDie Agenda wird in den nä
 chsten Wochen weiterhin aktualisiert werden.\nStand 19. Oktober 2021
CATEGORIES:Konferenz,Meetup
LOCATION:https://www.microsoft.com/de-de/techwiese/events/microsoft-azure-s
 olution-summit.aspx
END:VEVENT
BEGIN:VTIMEZONE
TZID:Europe/Berlin
X-LIC-LOCATION:Europe/Berlin
BEGIN:STANDARD
DTSTART:20211031T020000
TZOFFSETFROM:+0200
TZOFFSETTO:+0100
TZNAME:CET
END:STANDARD
END:VTIMEZONE
END:VCALENDAR