BEGIN:VCALENDAR
VERSION:2.0
PRODID:-//wp-events-plugin.com//7.2.3.1//EN
TZID:Europe/Berlin
X-WR-TIMEZONE:Europe/Berlin
BEGIN:VEVENT
UID:0-2409@sharepointsocial.de
DTSTART;TZID=Europe/Berlin:20241024T080000
DTEND;TZID=Europe/Berlin:20241024T200000
DTSTAMP:20241011T102929Z
URL:https://sharepointsocial.de/events/microsoft-ai-tour-2024-berlin/
SUMMARY:Microsoft AI Tour 2024 Berlin
DESCRIPTION:Hol dir auf der Microsoft AI Tour am 24. Oktober 2024 im C
 ityCube Berlin exklusive Einblicke in die Welt der künstlichen Intellige
 nz. Lass dich von Microsoft-CEO Satya Nadella und renommierten KI-Expert
 *innen inspirieren und entdecke die neuesten KI-Innovationen\, die du in d
 einen Projekten einsetzen kannst.\n\nEs erwartet dich ein umfassendes Prog
 ramm\, das dir faszinierende Einblicke in den kompletten KI-Stack von Micr
 osoft bietet – von der KI-Infrastruktur und der Datenverarbeitung über 
 die Entwicklung und den Schutz von KI-Lösungen bis hin zum Einsatz von KI
 -Modellen in der Praxis. Sichere dir deinen Platz und profitiere mehrfach:
 \n\n 	Neue Perspektiven zu den Möglichkeiten von künstlicher Intelligenz
 \n 	Über 30 Keynotes und Sessions rund um den kompletten KI-Stack von Mic
 rosoft\n 	Strategien für den Einsatz von KI in deinem Unternehmen\n 	Erfa
 hrungen und Best Practices aus erfolgreichen KI-Projekten\n 	Praxiswissen 
 zu Microsoft Copilot\, GitHub Copilot\, Azure AI und Microsoft Fabric\n 	W
 orkshops für einen Deep-Dive in einzelne Themen\n\nEin Blick auf die Agen
 da – das erwartet dich auf der Microsoft AI Tour\nDie Agenda der Microso
 ft AI Tour ist so strukturiert\, dass sie dir genau die Inhalte bietet\, d
 ie du benötigst – unabhängig von deiner Rolle im Unternehmen. Zwei par
 allele Tracks sorgen dafür\, dass sowohl Entscheider*innen und Führungsk
 räfte\, die sich auf strategische Perspektiven und geschäftliche Implika
 tionen konzentrieren möchten\, als auch Entwickler*innen und IT-Expert*in
 nen auf ihre Kosten kommen.\n\nPassend zu den Strategiethemen des Business
 -Tracks umfasst der Technologie-Track tiefgehende technische Sessions\, di
 e dir die neuesten Tools und Technologien von Microsoft näherbringen. Inh
 altlich werden sich die Sessions unter anderem um Microsoft Copilot\, KI-R
 eadiness\, Datenstrategien\, Generative AI\, GitHub Copilot\, Azure AI und
  Microsoft Fabric drehen.\n\nErgänzend dazu hast du in praxisorientierten
  Workshops die Gelegenheit\, unter Anleitung erfahrener Expert*innen selbs
 t Hand anzulegen und konkrete KI-Lösungen zu entwickeln und zu implementi
 eren.\n\nFreue dich auf hochkarätige Expert*innen\, angeführt von Micros
 oft-CEO Satya Nadella\, der seine Vision für KI und die Vorteile für ih
 r Unternehmen vorstellt. Darüber hinaus geben unter anderem Agnes Heftber
 ger\, CVP von Microsoft Deutschland\, Jared Spataro\, CVP für AI at Work\
 , und Colette Stallbaumer\, GM für Modern Work\, ihr Wissen an dich weite
 r.\n\nHole dir im Oktober jede Menge Insights\, Tipps und Tricks. Neben de
 n Keynotes und Sessions erwartet dich ein umfangreiches Rahmenprogramm und
  jede Menge Networking-Möglichkeiten. Für eine Teilnahme ist eine kurze 
 Registrierung vonnöten.
CATEGORIES:Konferenz,Meetup
LOCATION:https://www.microsoft.com/de-de/techwiese/news/jetzt-anmelden-micr
 osoft-ai-tour-am-24-oktober--innovation-live-erleben.aspx
END:VEVENT
BEGIN:VTIMEZONE
TZID:Europe/Berlin
X-LIC-LOCATION:Europe/Berlin
BEGIN:DAYLIGHT
DTSTART:20240331T030000
TZOFFSETFROM:+0100
TZOFFSETTO:+0200
TZNAME:CEST
END:DAYLIGHT
END:VTIMEZONE
END:VCALENDAR