BEGIN:VCALENDAR
VERSION:2.0
PRODID:-//wp-events-plugin.com//7.2.3.1//EN
TZID:Europe/Berlin
X-WR-TIMEZONE:Europe/Berlin
BEGIN:VEVENT
UID:0-2451@sharepointsocial.de
DTSTART;TZID=Europe/Berlin:20250321T133000
DTEND;TZID=Europe/Berlin:20250321T141500
DTSTAMP:20250226T110529Z
URL:https://sharepointsocial.de/events/microsoft-ai-school-folge-3-das-cop
 ilot-abc-in-outlook/
SUMMARY:Microsoft AI School - Folge 3: Das Copilot ABC in Outlook
DESCRIPTION:Präsentationssprache(n): Deutsch\nUntertitelsprache(n): Deut
 sch\n\n\n\n\n\nMicrosoft AI School - Folge 3: Das Copilot ABC in Outlook\n
 \nWillkommen zur dritten Episode unserer Live-Seminars "Microsoft AI Schoo
 l – Die Copilot Schule" und entdecken Sie die Welt von Microsoft 365 Cop
 ilot in Outlook.\n\nFolgen Sie uns 45 Minuten lang auf unserer Entdeckungs
 reise\, wenn wir die Möglichkeiten von Copilot in Outlook erkunden und ze
 igen\, wie KI Ihre Kommunikation revolutioniert. Von den praktischen Funkt
 ionen in Outlook über die Kunst der richtigen Prompts bis hin zu anschaul
 ichen Anwendungsbeispielen – diese Episode bietet Ihnen einen umfassende
 n Einblick.\n\nDie Themen:\n\n 	Slot 1 – Copilot-Funktionen in Outlook:
  Wir schauen uns an\, welche Funktionen Microsoft 365 Copilot speziell f
 ür Outlook bietet und wie diese Ihre E-Mail-Kommunikation vereinfachen.\n
  	Slot 2 – Anwendungsbeispiele: Wir zeigen Ihnen praxisnahe Szenarien 
 und konkrete Beispiele in Outlook\, die Ihre Kommunikation verbessern werd
 en.\n 	Slot 3 – das 1x1 des Promptens für Outlook &amp\; Kommunikation:
  Lernen Sie\, wie Sie Copilot in Outlook mit gezielten Eingaben steuern\
 , um präzise und produktive Ergebnisse zu erzielen. Diese Tipps helfen ni
 cht nur in Outlook\, sondern auch in anderen Bereichen der geschäftlichen
  Kommunikation.\n 	Slot 4 – Fragen aus dem Publikum: Stellen Sie Ihre 
 Fragen live und profitieren Sie von individuellen Antworten unserer Expert
 en.\n 	Referenten: Marina Valtchev und Alexander Eggers\n 	Präsentations-
  und Untertitelsprache: Deutsch\n\nSchärfen auch Sie in der Microsoft A
 I School Ihre Skills und lassen Sie sich inspirieren. Erleben Sie\, wie Ih
 re neuen KI-Fähigkeiten Ihre Kommunikation revolutionieren.\n\nBleiben Si
 e am Ball: In der nächsten Folge zeigen wir Ihnen die möglichen Einsatzb
 ereiche von Microsoft 365 Copilot in Teams. Entdecken Sie\, wie KI die Zus
 ammenarbeit in Ihrem Team verbessern kann. Bleiben Sie dran und lassen Sie
  sich inspirieren!\n\n\n\n
CATEGORIES:Meetup,Webcast
LOCATION:https://www.microsoft.com/de-de/modernes-arbeiten/microsoft-ai-sch
 ool
END:VEVENT
BEGIN:VTIMEZONE
TZID:Europe/Berlin
X-LIC-LOCATION:Europe/Berlin
BEGIN:STANDARD
DTSTART:20241027T020000
TZOFFSETFROM:+0200
TZOFFSETTO:+0100
TZNAME:CET
END:STANDARD
END:VTIMEZONE
END:VCALENDAR