BEGIN:VCALENDAR
VERSION:2.0
PRODID:-//wp-events-plugin.com//7.2.3.1//EN
TZID:Europe/Berlin
X-WR-TIMEZONE:Europe/Berlin
BEGIN:VEVENT
UID:0-2478@sharepointsocial.de
DTSTART;TZID=Europe/Berlin:20250423T133000
DTEND;TZID=Europe/Berlin:20250423T150000
DTSTAMP:20250421T080720Z
URL:https://sharepointsocial.de/events/microsoft-ai-school-die-copilot-dop
 pelstunde-outlook-im-detail/
SUMMARY:Microsoft AI School – Die Copilot-Doppelstunde: Outlook im Detail
DESCRIPTION:Wann\nMittwoch\, 23. April 2025\, 13:30–15:00 Uhr (GMT+01:00)
 \n&nbsp\;\n\n\nPräsentationssprache(n): Deutsch\nUntertitelsprache(n): 
 Deutsch\n\n\n\n\nMicrosoft AI School – Die Copilot-Doppelstunde: Outlook
  im Detail\n\nZurück in die Microsoft AI School – und dieses Mal wird I
 hr Posteingang revolutioniert! Kennen Sie schon Microsoft 365 Copilot in O
 utlook? Gut. Bereit\, es zu meistern? In der zweiten Folge unserer "Micros
 oft AI School – Die Copilot-Doppelstunde" zeigen wir Ihnen\, wie Sie Out
 look mit der Power von KI in eine Produktivitätsmaschine verwandeln. 90 M
 inuten geballtes Wissen\, null Langeweile\, 100% Praxis – versprochen! 
 \nMicrosoft AI School – Die Copilot-Doppelstunde: Entdecken Sie die Powe
 r von KI in Microsoft 365.\nIn dieser Folge: Das volle Potenzial von Copil
 ot in Outlook! \nWas erwartet Sie in dieser Session?\n\n 	\n\n 	Outlook i
 m Turbo-Modus: Wir frischen die Grundlagen auf und zeigen\, wie Copilot Ih
 re E-Mail-Kommunikation optimiert. \n\n\n\n\n 	\n\n 	Features\, die Sie b
 egeistern werden: Entdecken Sie die Power-Features von Copilot in Outloo
 k – automatisierte Antworten\, clevere Terminplanung\, magisches Sortier
 en und vieles mehr! \n\n\n\n\n 	\n\n 	Sprechen Sie Copilot fließend – 
 mit den richtigen Prompts: Wir enthüllen die Geheimnisse der Copilot-Ko
 mmunikation und zeigen Ihnen\, wie Sie Ihre Wünsche klar und deutlich for
 mulieren. \n\n\n\n\n 	\n\n 	Best Practices: Erhalten Sie wertvolle Tipps\
 , wie Sie Copilot effizient in Ihren Workflow integrieren und Ihren Postei
 ngang im Griff behalten. \n\n\n\n\n 	Ihre Fragen – Live ins Studio: Nac
 h dem 60-minütigen Lernteil nehmen wir uns 30 Minuten Zeit für Ihre Frag
 en. Erhalten Sie direkt Antworten von unserer Expertin Marina Valtchev und
  unserem Experten Alexander Eggers. \n\nDiese Session ist perfekt für al
 le\, die …\n\n 	\n\n 	… Copilot in Outlook bereits nutzen und jetzt zu
 m Profi aufsteigen wollen. \n\n\n\n\n 	\n\n 	… denken\, dass sie schon 
 alles über Copilot wissen (Spoiler: tun Sie nicht!). \n\n\n\n\n 	… ein
 fach Lust auf 90 Minuten geballtes Copilot-Wissen (und einen leeren Postei
 ngang) haben. \n\nReferent*innen: Marina Valtchev und Alexander Eggers\
 n\nPräsentations- und Untertitelsprache: Deutsch\n\n\n\n
CATEGORIES:Meetup
LOCATION:https://msevents.microsoft.com/event?id=2709818200
END:VEVENT
BEGIN:VTIMEZONE
TZID:Europe/Berlin
X-LIC-LOCATION:Europe/Berlin
BEGIN:DAYLIGHT
DTSTART:20250330T030000
TZOFFSETFROM:+0100
TZOFFSETTO:+0200
TZNAME:CEST
END:DAYLIGHT
END:VTIMEZONE
END:VCALENDAR