BEGIN:VCALENDAR
VERSION:2.0
PRODID:-//wp-events-plugin.com//7.2.3.1//EN
TZID:Europe/Berlin
X-WR-TIMEZONE:Europe/Berlin
BEGIN:VEVENT
UID:0-1534@sharepointsocial.de
DTSTART;TZID=Europe/Berlin:20201128T090000
DTEND;TZID=Europe/Berlin:20201128T170000
DTSTAMP:20201109T113025Z
URL:https://sharepointsocial.de/events/microsoft-365-developer-bootcamp-20
 20-hamburg/
SUMMARY:Microsoft 365 Developer Bootcamp 2020 Hamburg
DESCRIPTION:Save the date!\nOn Saturday\, Noverber\, 28th 2020 between 09:0
 0 and 17:00 CET we plan to run this years Microsoft 365 Developer Bootcamp
  2020\, Hamburg Edition.\nFollowing the success of our local 2017 - 2019 G
 lobal Microsoft 365 Developer Bootcamps in Hamburg\, we will follow the gl
 obal initiative and will be back for another year.\nBut this years event w
 ill be different\, due to COVID-19. We will approach things a little diffe
 rent and this bootcamp as well will be held virtually.\nAs always\, and as
  asked by attendees\, our bootcamp are still planned as hands-on-labs and 
 should continue to be so even if virtual.\nFor that\, we plan to use stand
 ard Microsoft Teams Meetings to run our sessions interactively.\n\nAlso\, 
 while we moved the Bootcamp to Microsoft Teams\, we still plan to run the 
 event on a Saturday. This is because most of the attendees seem to be work
 ing as freelance developers and consultants\, that voted for to run this e
 vent not during their standard wokring hours.\n\nPlease expect us to run a
  bootcamp to share the latest and greatest technologies and products (Micr
 osoft Graph\, Microsoft Teams\, SharePoint Framework\, Office Add-ins\, Co
 nnectors\, Actionable Messages\, Microsoft Identity Platform\, Power Platf
 orm and Windows) on the Microsoft 365 platform.\n\nWe do not plan to strea
 m our event tracks to youtube or twitch etc. so we have a quite private fe
 eling and you don't need to hesitate to tell us about your personal questi
 ons! (no recording of attendees during sssion slots\, as well)\n\nNow we'r
 e looking for session and workshop offers from you\, community speakers! P
 lease be aware that we prefer interactive workshop offers (smaller hackath
 ons up to 4 h) over sessions.\nWe're currently working on our official cal
 l for speakers\, please visit the folowing page if you plan to submit a se
 ssion https://sessionize.com/2020-microsoft-365-developer-bootcamp-hambur
 g-de/\n\nAgenda:\ntbd\n\nThe agenda is currently under construction.\n\nPl
 ease be aware that we're running this event based on our #office65ughh Mic
 rosoft Teams Team. You will have the best bootcamp experiance incl. full f
 earured chat etc. if you will join our team.\nTo do that\, please send you
 r Microosft Teams account mail address to the organizers via direct messag
 e here on meetup or via Twitter/DM to @AtholyMardies. We will add your acc
 ount as soon as possible once you are a member on this meetup group.\n\nDa
 tenschutz / Privacy\nWir zeichnen die Online Meeting in MicrosoftTeams in 
 der Regel auf. Teilnahme bedeutet daher\, dass Ihr der Aufnahme von Bild u
 nd Ton/Video zustimmt.\nWir werden während des Meetups Bilder von den Vor
 tragenden und vom Publikumsraum aufnehmen\, die dann für eigene Marketing
 zwecke auf Twitter\, Facebook\, Meetup\, Martins Website (http://themigrat
 ionwizard.com) in Posts zu unserem Meetup (themigrationwizard.com)\, youtu
 be &amp\; weiteren Plattformen eingefügt werden.\nMit Betreten des Meetin
 gs gehen wir davon aus\, dass Ihr der Aufnahme Eures Bilds und dem Posting
  in den sozialen Medien (und dadurch ggf. erfolgender Datenverarbeitung be
 i Twitter\, Facebook\, etc.) sowie deren Reposts zugestimmt habt.\nWir wei
 sen darauf hin\, dass eine rückwirkende Löschung bei Facebook\, Youtube\
 , Twitter\, etc. zumindest problematisch ist und Eure Daten auch auf Serve
 rn außerhalb Europas (insbesondere der USA und Kanada) verarbeitet werden
 .\nEine kommerzielle Nutzung durch die Organisatoren erfolgt nicht.
CATEGORIES:Meetup
LOCATION:https://www.meetup.com/de-DE/Office-365-User-Group-Hamburg/events/
 271966324/
END:VEVENT
BEGIN:VTIMEZONE
TZID:Europe/Berlin
X-LIC-LOCATION:Europe/Berlin
BEGIN:STANDARD
DTSTART:20201025T020000
TZOFFSETFROM:+0200
TZOFFSETTO:+0100
TZNAME:CET
END:STANDARD
END:VTIMEZONE
END:VCALENDAR