BEGIN:VCALENDAR
VERSION:2.0
PRODID:-//wp-events-plugin.com//7.2.3.1//EN
TZID:Europe/Berlin
X-WR-TIMEZONE:Europe/Berlin
BEGIN:VEVENT
UID:0-2379@sharepointsocial.de
DTSTART;TZID=Europe/Berlin:20240607T123000
DTEND;TZID=Europe/Berlin:20240607T131500
DTSTAMP:20240603T172325Z
URL:https://sharepointsocial.de/events/microsoft-365-copilot-meetup-berlin
 -lunch-ms-build-review/
SUMMARY:Microsoft 365 Copilot Meetup Berlin Lunch - MS Build Review
DESCRIPTION:Am 7.6.2024 um 12:30 Uhr servieren wir - Michael Greth und Mark
 us Raatz - virtuell zur Mittagszeit das Copilot Lunch &amp\; Build.\n\nThe
 ma No 1: Microsoft Build\nWir blicken auf die Highlights der Microsoft Bui
 ld Konferenz im Mai zurück.Was ist für uns als Anwender von Microsoft 36
 5 / Copilot an Neuerungen interessant und was sind die Auswirkungen?\nDar
 über hinaus war im Mai aber auch großes Schaulaufen der anderen Big Play
 er im KI-Business (Meta\, Google\, Open AI ). Wir schauen über den Teller
 rand und fassen für euch die wichtigsten Trends zusammen.\nThema No 2: Da
 ten sind das neue Gold\nDie wachsende Bedeutung von Daten\, Datenqualität
  und Datenverfügbarkeit. Microsoft Fabric ist der neue Ansatz von Microso
 ft und Markus Raatz wird hier einen Überblick geben.\n\nAlles in entspann
 ter Lunch Atmosphäre.\n\nIm Livestream über \n\nLinkedIn https://www.lin
 kedin.com/events/7203405148327428096/comments/\nYoutube https://www.youtub
 e.com/watch?v=Ll5F4sdRylI\nFacebook https://www.facebook.com/events/911863
 347381665
CATEGORIES:Meetup
LOCATION:https://www.youtube.com/watch?v=Ll5F4sdRylI
END:VEVENT
BEGIN:VTIMEZONE
TZID:Europe/Berlin
X-LIC-LOCATION:Europe/Berlin
BEGIN:DAYLIGHT
DTSTART:20240331T030000
TZOFFSETFROM:+0100
TZOFFSETTO:+0200
TZNAME:CEST
END:DAYLIGHT
END:VTIMEZONE
END:VCALENDAR